Workbook
Name 行政区5歳ごと人口_男女別_: #REF!
Name 行政区5歳ごと人口_男女別_: #REF!
Name 行政区5歳ごと人口_男女別_: #REF!
Name 行政区5歳ごと人口_男女別_: #REF!
Name 行政区5歳ごと人口_男女別_: #REF!
Name 行政区5歳ごと人口_男女別_: #REF!
Name 行政区5歳ごと人口_男女別_: #REF!
Name 行政区5歳ごと人口_男女別_: #REF!
Name 行政区5歳ごと人口_男女別_: #REF!
Name 行政区5歳ごと人口_男女別_: #REF!
Name 行政区5歳ごと人口_男女別_: #REF!
Name 行政区5歳ごと人口_男女別_: #REF!
Name 行政区5歳ごと人口_男女別_: #REF!
Name 行政区5歳ごと人口_男女別_: #REF!
Name 行政区5歳ごと人口_男女別_: #REF!
Name 行政区5歳ごと人口_男女別_: #REF!

Sheet 人口と世帯数（４月末）
A1: 地域別人口 と 世帯数
R2: 令和８年４月末日現在
H3: 住民基本台帳より、( )内は外国人のうち数
A4: 地 域 | D4: 世 帯 数 | H4: 人 口
H5: 男 | L5: 女 | P5: 計
A6: 萩 | B6: 川 内 | D6: 7149 | E6: ( | F6: 124 | G6: ) | H6: 6096 | I6: ( | J6: 49 | K6: ) | L6: 7241 | M6: ( | N6: 119 | O6: ) | P6: 13337 | Q6: ( | R6: 168 | S6: )
B7: 椿 東 | D7: 5059 | E7: ( | F7: 110 | G7: ) | H7: 4336 | I7: ( | J7: 88 | K7: ) | L7: 4901 | M7: ( | N7: 46 | O7: ) | P7: 9237 | Q7: ( | R7: 134 | S7: )
C8: 再掲 小 畑 | D8: 964 | E8: ( | F8: 14 | G8: ) | H8: 792 | I8: ( | J8: 4 | K8: ) | L8: 855 | M8: ( | N8: 14 | O8: ) | P8: 1647 | Q8: ( | R8: 18 | S8: )
C9: 再掲 越ヶ浜 | D9: 591 | E9: ( | F9: 17 | G9: ) | H9: 487 | I9: ( | J9: 5 | K9: ) | L9: 540 | M9: ( | N9: 13 | O9: ) | P9: 1027 | Q9: ( | R9: 18 | S9: )
B10: 椿 | D10: 1871 | E10: ( | F10: 38 | G10: ) | H10: 1623 | I10: ( | J10: 14 | K10: ) | L10: 1965 | M10: ( | N10: 29 | O10: ) | P10: 3588 | Q10: ( | R10: 43 | S10: )
B11: 山 田 | D11: 1226 | E11: ( | F11: 9 | G11: ) | H11: 970 | I11: ( | J11: 8 | K11: ) | L11: 1170 | M11: ( | N11: 5 | O11: ) | P11: 2140 | Q11: ( | R11: 13 | S11: )
C12: 再掲 木 間 | D12: 54 | E12: ( | F12: 0 | G12: ) | H12: 40 | I12: ( | J12: 0 | K12: ) | L12: 46 | M12: ( | N12: 0 | O12: ) | P12: 86 | Q12: ( | R12: 0 | S12: )
B13: 三 見 | D13: 511 | E13: ( | F13: 0 | G13: ) | H13: 409 | I13: ( | J13: 0 | K13: ) | L13: 481 | M13: ( | N13: 2 | O13: ) | P13: 890 | Q13: ( | R13: 2 | S13: )
B14: 大 井 | D14: 835 | E14: ( | F14: 9 | G14: ) | H14: 661 | I14: ( | J14: 1 | K14: ) | L14: 788 | M14: ( | N14: 10 | O14: ) | P14: 1449 | Q14: ( | R14: 11 | S14: )
B15: 大 島 | D15: 246 | E15: ( | F15: 0 | G15: ) | H15: 251 | I15: ( | J15: 0 | K15: ) | L15: 254 | M15: ( | N15: 0 | O15: ) | P15: 505 | Q15: ( | R15: 0 | S15: )
B16: 相 島 | D16: 56 | E16: ( | F16: 0 | G16: ) | H16: 41 | I16: ( | J16: 0 | K16: ) | L16: 58 | M16: ( | N16: 0 | O16: ) | P16: 99 | Q16: ( | R16: 0 | S16: )
B17: 櫃 島 | D17: 1 | E17: ( | F17: 0 | G17: ) | H17: 1 | I17: ( | J17: 0 | K17: ) | L17: 1 | M17: ( | N17: 0 | O17: ) | P17: 2 | Q17: ( | R17: 0 | S17: )
B18: 見 島 | D18: 387 | E18: ( | F18: 0 | G18: ) | H18: 312 | I18: ( | J18: 0 | K18: ) | L18: 242 | M18: ( | N18: 0 | O18: ) | P18: 554 | Q18: ( | R18: 0 | S18: )
B19: 小 計 | D19: 17341 | E19: ( | F19: 290 | G19: ) | H19: 14700 | I19: ( | J19: 160 | K19: ) | L19: 17101 | M19: ( | N19: 211 | O19: ) | P19: 31801 | Q19: ( | R19: 371 | S19: )
A20: 川 上 | B20: 川 上 | D20: 404 | E20: ( | F20: 36 | G20: ) | H20: 327 | I20: ( | J20: 39 | K20: ) | L20: 344 | M20: ( | N20: 13 | O20: ) | P20: 671 | Q20: ( | R20: 52 | S20: )
B21: 小 計 | D21: 404 | E21: ( | F21: 36 | G21: ) | H21: 327 | I21: ( | J21: 39 | K21: ) | L21: 344 | M21: ( | N21: 13 | O21: ) | P21: 671 | Q21: ( | R21: 52 | S21: )
A22: 田万川 | B22: 小 川 | D22: 390 | E22: ( | F22: 25 | G22: ) | H22: 318 | I22: ( | J22: 6 | K22: ) | L22: 361 | M22: ( | N22: 20 | O22: ) | P22: 679 | Q22: ( | R22: 26 | S22: )
B23: 江 崎 | D23: 700 | E23: 700 | F23: 19 | G23: ) | H23: 645 | I23: ( | J23: 8 | K23: ) | L23: 725 | M23: ( | N23: 15 | O23: ) | P23: 1370 | Q23: ( | R23: 23 | S23: )
B24: 小 計 | D24: 1090 | E24: ( | F24: 44 | G24: ) | H24: 963 | I24: ( | J24: 14 | K24: ) | L24: 1086 | M24: ( | N24: 35 | O24: ) | P24: 2049 | Q24: ( | R24: 49 | S24: )
A25: むつみ | B25: 吉 部 | D25: 390 | E25: ( | F25: 1 | G25: ) | H25: 320 | I25: ( | J25: 2 | K25: ) | L25: 365 | M25: ( | N25: 0 | O25: ) | P25: 685 | Q25: ( | R25: 2 | S25: )
B26: 高 俣 | D26: 227 | E26: ( | F26: 0 | G26: ) | H26: 196 | I26: ( | J26: 0 | K26: ) | L26: 194 | M26: ( | N26: 0 | O26: ) | P26: 390 | Q26: ( | R26: 0 | S26: )
B27: 小 計 | D27: 617 | E27: ( | F27: 1 | G27: ) | H27: 516 | I27: ( | J27: 2 | K27: ) | L27: 559 | M27: ( | N27: 0 | O27: ) | P27: 1075 | Q27: ( | R27: 2 | S27: )
A28: 須 佐 | B28: 須 佐 | D28: 905 | E28: ( | F28: 12 | G28: ) | H28: 738 | I28: ( | J28: 10 | K28: ) | L28: 833 | M28: ( | N28: 4 | O28: ) | P28: 1571 | Q28: ( | R28: 14 | S28: )
B29: 弥 富 | D29: 204 | E29: ( | F29: 0 | G29: ) | H29: 178 | I29: ( | J29: 0 | K29: ) | L29: 201 | M29: ( | N29: 0 | O29: ) | P29: 379 | Q29: ( | R29: 0 | S29: )
B30: 小 計 | D30: 1109 | E30: ( | F30: 12 | G30: ) | H30: 916 | I30: ( | J30: 10 | K30: ) | L30: 1034 | M30: ( | N30: 4 | O30: ) | P30: 1950 | Q30: ( | R30: 14 | S30: )
A31: 旭 | B31: 明 木 | D31: 396 | E31: ( | F31: 0 | G31: ) | H31: 353 | I31: ( | J31: 0 | K31: ) | L31: 390 | M31: ( | N31: 1 | O31: ) | P31: 743 | Q31: ( | R31: 1 | S31: )
B32: 佐 々 並 | D32: 257 | E32: ( | F32: 0 | G32: ) | H32: 247 | I32: ( | J32: 0 | K32: ) | L32: 260 | M32: ( | N32: 0 | O32: ) | P32: 507 | Q32: ( | R32: 0 | S32: )
B33: 小 計 | D33: 653 | E33: ( | F33: 0 | G33: ) | H33: 600 | I33: ( | J33: 0 | K33: ) | L33: 650 | M33: ( | N33: 1 | O33: ) | P33: 1250 | Q33: ( | R33: 1 | S33: )
A34: 福 栄 | B34: 福 川 | D34: 352 | E34: ( | F34: 0 | G34: ) | H34: 302 | I34: ( | J34: 0 | K34: ) | L34: 347 | M34: ( | N34: 1 | O34: ) | P34: 649 | Q34: ( | R34: 1 | S34: )
B35: 紫 福 | D35: 299 | E35: ( | F35: 1 | G35: ) | H35: 275 | I35: ( | J35: 2 | K35: ) | L35: 308 | M35: ( | N35: 1 | O35: ) | P35: 583 | Q35: ( | R35: 3 | S35: )
B36: 小 計 | D36: 651 | E36: ( | F36: 1 | G36: ) | H36: 577 | I36: ( | J36: 2 | K36: ) | L36: 655 | M36: ( | N36: 2 | O36: ) | P36: 1232 | Q36: ( | R36: 4 | S36: )
A37: 合 計 | D37: 21865 | E37: ( | F37: 384 | G37: ) | H37: 18599 | I37: ( | J37: 227 | K37: ) | L37: 21429 | M37: ( | N37: 266 | O37: ) | P37: 40028 | Q37: ( | R37: 493 | S37: )
A38: ※ 「小畑」及び「越ヶ浜」として再掲した数値は椿東地区に、「木間」として再掲した数値は山田地区に、それぞれ含まれます。
A40: ※ 「住民基本台帳の一部を改正する法律」が平成２４年７月９日に施行されたことに伴い、外国人数が含まれるようになりました。

Sheet 年齢人口（４月末）
A1: （地域別）年齢３区分別人口と割合
L2: 令和８年４月末日現在
A3: 地 域 | D3: 人口 | E3: 3区分別人口 | I3: 3区分別人口の割合
E4: 0～14歳 | F4: 15～64歳 | G4: 65歳 以上 | I4: 0～14歳 | J4: 15～64歳 | K4: 65歳 以上
H5: 内75歳 以上 | L5: 内75歳 以上
A6: 萩 | B6: 川 内 | D6: 13337 | E6: 1337 | F6: 6972 | G6: 5028 | H6: 3053 | I6: 0.10024743 | J6: 0.52275624 | K6: 0.37699633 | L6: 0.22891205
B7: 椿 東 | D7: 9237 | E7: 703 | F7: 4487 | G7: 4047 | H7: 2374 | I7: 0.076106961 | J7: 0.48576378 | K7: 0.43812926 | L7: 0.25700985
C8: 再掲 小 畑 | D8: 1647 | E8: 105 | F8: 747 | G8: 795 | H8: 446 | I8: 0.063752277 | J8: 0.45355191 | K8: 0.48269581 | L8: 0.27079539
C9: 再掲 越ヶ浜 | D9: 1027 | E9: 22 | F9: 409 | G9: 596 | H9: 383 | I9: 0.021421616 | J9: 0.39824732 | K9: 0.58033106 | L9: 0.37293087
B10: 椿 | D10: 3588 | E10: 347 | F10: 1850 | G10: 1391 | H10: 799 | I10: 0.09671126 | J10: 0.51560758 | K10: 0.38768116 | L10: 0.22268673
B11: 山 田 | D11: 2140 | E11: 104 | F11: 944 | G11: 1092 | H11: 684 | I11: 0.048598131 | J11: 0.4411215 | K11: 0.51028037 | L11: 0.31962617
C12: 再掲 木 間 | D12: 86 | E12: 0 | F12: 23 | G12: 63 | H12: 45 | I12: 0 | J12: 0.26744186 | K12: 0.73255814 | L12: 0.52325581
B13: 三 見 | D13: 890 | E13: 21 | F13: 349 | G13: 520 | H13: 339 | I13: 0.023595506 | J13: 0.39213483 | K13: 0.58426966 | L13: 0.38089888
B14: 大 井 | D14: 1449 | E14: 31 | F14: 500 | G14: 918 | H14: 582 | I14: 0.021394065 | J14: 0.34506556 | K14: 0.63354037 | L14: 0.40165631
B15: 大 島 | D15: 505 | E15: 24 | F15: 229 | G15: 252 | H15: 124 | I15: 0.047524752 | J15: 0.45346535 | K15: 0.4990099 | L15: 0.24554455
B16: 相 島 | D16: 99 | E16: 0 | F16: 19 | G16: 80 | H16: 50 | I16: 0 | J16: 0.19191919 | K16: 0.80808081 | L16: 0.50505051
B17: 櫃 島 | D17: 2 | E17: 0 | F17: 0 | G17: 2 | H17: 2 | I17: 0 | J17: 0 | K17: 1 | L17: 1
B18: 見 島 | D18: 554 | E18: 11 | F18: 213 | G18: 330 | H18: 203 | I18: 0.019855596 | J18: 0.38447653 | K18: 0.59566787 | L18: 0.36642599
B19: 小 計 | D19: 31801 | E19: 2578 | F19: 15563 | G19: 13660 | H19: 8210 | I19: 0.081066633 | J19: 0.48938713 | K19: 0.42954624 | L19: 0.25816798
A20: 川上 | B20: 川 上 | D20: 671 | E20: 29 | F20: 258 | G20: 384 | H20: 248 | I20: 0.043219076 | J20: 0.38450075 | K20: 0.57228018 | L20: 0.36959762
B21: 小 計 | D21: 671 | E21: 29 | F21: 258 | G21: 384 | H21: 248 | I21: 0.043219076 | J21: 0.38450075 | K21: 0.57228018 | L21: 0.36959762
A22: 田万川 | B22: 小 川 | D22: 679 | E22: 18 | F22: 275 | G22: 386 | H22: 234 | I22: 0.026509573 | J22: 0.40500736 | K22: 0.56848306 | L22: 0.34462445
B23: 江 崎 | D23: 1370 | E23: 71 | F23: 548 | G23: 751 | H23: 487 | I23: 0.051824818 | J23: 0.4 | K23: 0.54817518 | L23: 0.35547445
B24: 小 計 | D24: 2049 | E24: 89 | F24: 823 | G24: 1137 | H24: 721 | I24: 0.043435822 | J24: 0.40165935 | K24: 0.55490483 | L24: 0.35187897
A25: むつみ | B25: 吉 部 | D25: 685 | E25: 32 | F25: 232 | G25: 421 | H25: 268 | I25: 0.046715328 | J25: 0.33868613 | K25: 0.61459854 | L25: 0.39124088
B26: 高 俣 | D26: 390 | E26: 7 | F26: 136 | G26: 247 | H26: 160 | I26: 0.017948718 | J26: 0.34871795 | K26: 0.63333333 | L26: 0.41025641
B27: 小 計 | D27: 1075 | E27: 39 | F27: 368 | G27: 668 | H27: 428 | I27: 0.03627907 | J27: 0.34232558 | K27: 0.62139535 | L27: 0.39813953
A28: 須 佐 | B28: 須 佐 | D28: 1571 | E28: 76 | F28: 621 | G28: 874 | H28: 573 | I28: 0.04837683 | J28: 0.39528962 | K28: 0.55633355 | L28: 0.36473584
B29: 弥 富 | D29: 379 | E29: 13 | F29: 104 | G29: 262 | H29: 162 | I29: 0.034300792 | J29: 0.27440633 | K29: 0.69129288 | L29: 0.42744063
B30: 小 計 | D30: 1950 | E30: 89 | F30: 725 | G30: 1136 | H30: 735 | I30: 0.045641026 | J30: 0.37179487 | K30: 0.5825641 | L30: 0.37692308
A31: 旭 | B31: 明 木 | D31: 743 | E31: 26 | F31: 286 | G31: 431 | H31: 271 | I31: 0.034993271 | J31: 0.38492598 | K31: 0.58008075 | L31: 0.36473755
B32: 佐 々 並 | D32: 507 | E32: 25 | F32: 180 | G32: 302 | H32: 193 | I32: 0.049309665 | J32: 0.35502959 | K32: 0.59566075 | L32: 0.38067061
B33: 小 計 | D33: 1250 | E33: 51 | F33: 466 | G33: 733 | H33: 464 | I33: 0.0408 | J33: 0.3728 | K33: 0.5864 | L33: 0.3712
A34: 福 栄 | B34: 福 川 | D34: 649 | E34: 22 | F34: 225 | G34: 402 | H34: 263 | I34: 0.033898305 | J34: 0.34668721 | K34: 0.61941448 | L34: 0.40523883
B35: 紫 福 | D35: 583 | E35: 25 | F35: 204 | G35: 354 | H35: 203 | I35: 0.042881647 | J35: 0.34991424 | K35: 0.60720412 | L35: 0.34819897
B36: 小 計 | D36: 1232 | E36: 47 | F36: 429 | G36: 756 | H36: 466 | I36: 0.038149351 | J36: 0.34821429 | K36: 0.61363636 | L36: 0.37824675
A37: 合 計 | D37: 40028 | E37: 2922 | F37: 18632 | G37: 18474 | H37: 11272 | I37: 0.072998901 | J37: 0.46547417 | K37: 0.46152693 | L37: 0.28160288
A39: ※ 割合は、小数点第２位を四捨五入しているため、合計が100％にならない場合があります。
A40: ※ 「住民基本台帳の一部を改正する法律」が平成２４年７月９日に施行されたことに伴い、外国人数が含まれるようになりました。

Sheet 男女別人口（４月末）
A1: 地域別（年齢）３区分別人口
Q2: 令和８年４月末日現在
A3: 地 域 | D3: 人口 | E3: 年齢３区分別人口
E4: 男 | I4: 女 | N4: 全体
E5: 0～14歳 | F5: 15～64歳 | G5: 65歳 以上 | I5: 0～14歳 | J5: 15～64歳 | L5: 65歳 以上 | N5: 0～14歳 | O5: 15～64歳 | P5: 65歳 以上
H6: 内75歳 以上 | K6: 20～39歳 | M6: 内75歳 以上 | Q6: 内75歳 以上
A7: 萩 | B7: 川 内 | D7: 13337 | E7: 688 | F7: 3346 | G7: 2062 | H7: 1124 | I7: 649 | J7: 3626 | K7: 1070 | L7: 2966 | M7: 1929 | N7: 1337 | O7: 6972 | P7: 5028 | Q7: 3053
B8: 椿 東 | D8: 1005 | E8: 338 | F8: 2342 | G8: 1656 | H8: 888 | I8: 365 | J8: 2145 | K8: 504 | L8: 2391 | M8: 1486 | N8: 703 | O8: 4487 | P8: 4047 | Q8: 2374
C9: 再掲 小 畑 | D9: 624 | E9: 54 | F9: 420 | G9: 318 | H9: 168 | I9: 51 | J9: 327 | K9: 92 | L9: 477 | M9: 278 | N9: 105 | O9: 747 | P9: 795 | Q9: 446
C10: 再掲 越ヶ浜 | D10: 1027 | E10: 15 | F10: 223 | G10: 249 | H10: 137 | I10: 7 | J10: 186 | K10: 37 | L10: 347 | M10: 246 | N10: 22 | O10: 409 | P10: 596 | Q10: 383
B11: 椿 | D11: 3588 | E11: 179 | F11: 895 | G11: 549 | H11: 278 | I11: 168 | J11: 955 | K11: 275 | L11: 842 | M11: 521 | N11: 347 | O11: 1850 | P11: 1391 | Q11: 799
B12: 山 田 | D12: 59 | E12: 53 | F12: 476 | G12: 441 | H12: 257 | I12: 51 | J12: 468 | K12: 101 | L12: 651 | M12: 427 | N12: 104 | O12: 944 | P12: 1092 | Q12: 684
C13: 再掲 木 間 | D13: 86 | E13: 0 | F13: 13 | G13: 27 | H13: 21 | I13: 0 | J13: 10 | K13: 2 | L13: 36 | M13: 24 | N13: 0 | O13: 23 | P13: 63 | Q13: 45
B14: 三 見 | D14: 890 | E14: 9 | F14: 186 | G14: 214 | H14: 131 | I14: 12 | J14: 163 | K14: 28 | L14: 306 | M14: 208 | N14: 21 | O14: 349 | P14: 520 | Q14: 339
B15: 大 井 | D15: 1449 | E15: 14 | F15: 258 | G15: 389 | H15: 223 | I15: 17 | J15: 242 | K15: 46 | L15: 529 | M15: 359 | N15: 31 | O15: 500 | P15: 918 | Q15: 582
B16: 大 島 | D16: 505 | E16: 13 | F16: 124 | G16: 114 | H16: 48 | I16: 11 | J16: 105 | K16: 31 | L16: 138 | M16: 76 | N16: 24 | O16: 229 | P16: 252 | Q16: 124
B17: 相 島 | E17: 0 | F17: 8 | G17: 33 | H17: 20 | I17: 0 | J17: 11 | K17: 0 | L17: 47 | M17: 30 | N17: 0 | O17: 19 | P17: 80 | Q17: 50
B18: 櫃 島 | D18: 2 | E18: 0 | F18: 0 | G18: 1 | H18: 1 | I18: 0 | J18: 0 | K18: 0 | L18: 1 | M18: 1 | N18: 0 | O18: 0 | P18: 2 | Q18: 2
B19: 見 島 | D19: 554 | E19: 6 | F19: 166 | G19: 140 | H19: 85 | I19: 5 | J19: 47 | K19: 14 | L19: 190 | M19: 118 | N19: 11 | O19: 213 | P19: 330 | Q19: 203
B20: 小 計 | D20: 31801 | E20: 1300 | F20: 7801 | G20: 5599 | H20: 3055 | I20: 1278 | J20: 7762 | K20: 2069 | L20: 8061 | M20: 5155 | N20: 2578 | O20: 15563 | P20: 13660 | Q20: 8210
A21: 川上 | B21: 川 上 | D21: 671 | E21: 13 | F21: 143 | G21: 171 | H21: 98 | I21: 16 | J21: 115 | K21: 26 | L21: 213 | M21: 150 | N21: 29 | O21: 258 | P21: 384 | Q21: 248
B22: 小 計 | D22: 671 | E22: 13 | F22: 143 | G22: 171 | H22: 98 | I22: 16 | J22: 115 | K22: 26 | L22: 213 | M22: 150 | N22: 29 | O22: 258 | P22: 384 | Q22: 248
A23: 田万川 | B23: 小 川 | D23: 679 | E23: 7 | F23: 137 | G23: 174 | H23: 97 | I23: 11 | J23: 138 | K23: 37 | L23: 212 | M23: 137 | N23: 18 | O23: 275 | P23: 386 | Q23: 234
B24: 江 崎 | D24: 1370 | E24: 36 | F24: 277 | G24: 332 | H24: 201 | I24: 35 | J24: 271 | K24: 59 | L24: 419 | M24: 286 | N24: 71 | O24: 548 | P24: 751 | Q24: 487
B25: 小 計 | D25: 2049 | E25: 43 | F25: 414 | G25: 506 | H25: 298 | I25: 46 | J25: 409 | K25: 96 | L25: 631 | M25: 423 | N25: 89 | O25: 823 | P25: 1137 | Q25: 721
A26: むつみ | B26: 吉 部 | D26: 685 | E26: 18 | F26: 120 | G26: 182 | H26: 103 | I26: 14 | J26: 112 | K26: 21 | L26: 239 | M26: 165 | N26: 32 | O26: 232 | P26: 421 | Q26: 268
B27: 高 俣 | D27: 390 | E27: 4 | F27: 80 | G27: 112 | H27: 66 | I27: 3 | J27: 56 | K27: 9 | L27: 135 | M27: 94 | N27: 7 | O27: 136 | P27: 247 | Q27: 160
B28: 小 計 | D28: 1075 | E28: 22 | F28: 200 | G28: 294 | H28: 169 | I28: 17 | J28: 168 | K28: 30 | L28: 374 | M28: 259 | N28: 39 | O28: 368 | P28: 668 | Q28: 428
A29: 須 佐 | B29: 須 佐 | D29: 1571 | E29: 37 | F29: 324 | G29: 377 | H29: 226 | I29: 39 | J29: 297 | K29: 54 | L29: 497 | M29: 347 | N29: 76 | O29: 621 | P29: 874 | Q29: 573
B30: 弥 富 | D30: 379 | E30: 6 | F30: 52 | G30: 120 | H30: 70 | I30: 7 | J30: 52 | K30: 11 | L30: 142 | M30: 92 | N30: 13 | O30: 104 | P30: 262 | Q30: 162
B31: 小 計 | D31: 1950 | E31: 43 | F31: 376 | G31: 497 | H31: 296 | I31: 46 | J31: 349 | K31: 65 | L31: 639 | M31: 439 | N31: 89 | O31: 725 | P31: 1136 | Q31: 735
A32: 旭 | B32: 明 木 | D32: 743 | E32: 14 | F32: 155 | G32: 184 | H32: 101 | I32: 12 | J32: 131 | K32: 21 | L32: 247 | M32: 170 | N32: 26 | O32: 286 | P32: 431 | Q32: 271
B33: 佐 々 並 | D33: 507 | E33: 14 | F33: 94 | G33: 139 | H33: 83 | I33: 11 | J33: 86 | K33: 12 | L33: 163 | M33: 110 | N33: 25 | O33: 180 | P33: 302 | Q33: 193
B34: 小 計 | D34: 1250 | E34: 28 | F34: 249 | G34: 323 | H34: 184 | I34: 23 | J34: 217 | K34: 33 | L34: 410 | M34: 280 | N34: 51 | O34: 466 | P34: 733 | Q34: 464
A35: 福 栄 | B35: 福 川 | D35: 649 | E35: 12 | F35: 121 | G35: 169 | H35: 104 | I35: 10 | J35: 104 | K35: 14 | L35: 233 | M35: 159 | N35: 22 | O35: 225 | P35: 402 | Q35: 263
B36: 紫 福 | D36: 583 | E36: 12 | F36: 102 | G36: 161 | H36: 82 | I36: 13 | J36: 102 | K36: 22 | L36: 193 | M36: 121 | N36: 25 | O36: 204 | P36: 354 | Q36: 203
B37: 小 計 | D37: 1232 | E37: 24 | F37: 223 | G37: 330 | H37: 186 | I37: 23 | J37: 206 | K37: 36 | L37: 426 | M37: 280 | N37: 47 | O37: 429 | P37: 756 | Q37: 466
A38: 合 計 | D38: 40028 | E38: 1473 | F38: 9406 | G38: 7720 | H38: 4286 | I38: 1449 | J38: 9226 | K38: 2355 | L38: 10754 | M38: 6986 | N38: 2922 | O38: 18632 | P38: 18474 | Q38: 11272
A39: ※ 「住民基本台帳の一部を改正する法律」が平成２４年７月９日に施行されたことに伴い、外国人数が含まれるようになりました。

Sheet 人口と世帯数(5月末）
A1: 地域別人口 と 世帯数
R2: 令和８年５月末日現在
H3: 住民基本台帳より、( )内は外国人のうち数
A4: 地 域 | D4: 世 帯 数 | H4: 人 口
H5: 男 | L5: 女 | P5: 計
A6: 萩 | B6: 川 内 | D6: 7187 | E6: ( | F6: 153 | G6: ) | H6: 6091 | I6: ( | J6: 50 | K6: ) | L6: 7268 | M6: ( | N6: 147 | O6: ) | P6: 13359 | Q6: ( | R6: 197 | S6: )
B7: 椿 東 | D7: 5058 | E7: ( | F7: 114 | G7: ) | H7: 4327 | I7: ( | J7: 92 | K7: ) | L7: 4894 | M7: ( | N7: 46 | O7: ) | P7: 9221 | Q7: ( | R7: 138 | S7: )
C8: 再掲 小 畑 | D8: 966 | E8: ( | F8: 14 | G8: ) | H8: 791 | I8: ( | J8: 4 | K8: ) | L8: 856 | M8: ( | N8: 14 | O8: ) | P8: 1647 | Q8: ( | R8: 18 | S8: )
C9: 再掲 越ヶ浜 | D9: 589 | E9: ( | F9: 17 | G9: ) | H9: 484 | I9: ( | J9: 5 | K9: ) | L9: 539 | M9: ( | N9: 13 | O9: ) | P9: 1023 | Q9: ( | R9: 18 | S9: )
B10: 椿 | D10: 1848 | E10: ( | F10: 24 | G10: ) | H10: 1617 | I10: ( | J10: 14 | K10: ) | L10: 1942 | M10: ( | N10: 15 | O10: ) | P10: 3559 | Q10: ( | R10: 29 | S10: )
B11: 山 田 | D11: 1231 | E11: ( | F11: 10 | G11: ) | H11: 976 | I11: ( | J11: 9 | K11: ) | L11: 1175 | M11: ( | N11: 5 | O11: ) | P11: 2151 | Q11: ( | R11: 14 | S11: )
C12: 再掲 木 間 | D12: 54 | E12: ( | F12: 0 | G12: ) | H12: 39 | I12: ( | J12: 0 | K12: ) | L12: 46 | M12: ( | N12: 0 | O12: ) | P12: 85 | Q12: ( | R12: 0 | S12: )
B13: 三 見 | D13: 507 | E13: ( | F13: 0 | G13: ) | H13: 406 | I13: ( | J13: 0 | K13: ) | L13: 477 | M13: ( | N13: 2 | O13: ) | P13: 883 | Q13: ( | R13: 2 | S13: )
B14: 大 井 | D14: 838 | E14: ( | F14: 9 | G14: ) | H14: 658 | I14: ( | J14: 1 | K14: ) | L14: 790 | M14: ( | N14: 10 | O14: ) | P14: 1448 | Q14: ( | R14: 11 | S14: )
B15: 大 島 | D15: 244 | E15: ( | F15: 0 | G15: ) | H15: 249 | I15: ( | J15: 0 | K15: ) | L15: 255 | M15: ( | N15: 0 | O15: ) | P15: 504 | Q15: ( | R15: 0 | S15: )
B16: 相 島 | D16: 56 | E16: ( | F16: 0 | G16: ) | H16: 41 | I16: ( | J16: 0 | K16: ) | L16: 58 | M16: ( | N16: 0 | O16: ) | P16: 99 | Q16: ( | R16: 0 | S16: )
B17: 櫃 島 | D17: 1 | E17: ( | F17: 0 | G17: ) | H17: 1 | I17: ( | J17: 0 | K17: ) | L17: 1 | M17: ( | N17: 0 | O17: ) | P17: 2 | Q17: ( | R17: 0 | S17: )
B18: 見 島 | D18: 385 | E18: ( | F18: 0 | G18: ) | H18: 310 | I18: ( | J18: 0 | K18: ) | L18: 241 | M18: ( | N18: 0 | O18: ) | P18: 551 | Q18: ( | R18: 0 | S18: )
B19: 小 計 | D19: 17355 | E19: ( | F19: 310 | G19: ) | H19: 14676 | I19: ( | J19: 166 | K19: ) | L19: 17101 | M19: ( | N19: 225 | O19: ) | P19: 31777 | Q19: ( | R19: 391 | S19: )
A20: 川 上 | B20: 川 上 | D20: 404 | E20: ( | F20: 36 | G20: ) | H20: 328 | I20: ( | J20: 40 | K20: ) | L20: 345 | M20: ( | N20: 14 | O20: ) | P20: 673 | Q20: ( | R20: 54 | S20: )
B21: 小 計 | D21: 404 | E21: ( | F21: 36 | G21: ) | H21: 328 | I21: ( | J21: 40 | K21: ) | L21: 345 | M21: ( | N21: 14 | O21: ) | P21: 673 | Q21: ( | R21: 54 | S21: )
A22: 田万川 | B22: 小 川 | D22: 391 | E22: ( | F22: 25 | G22: ) | H22: 319 | I22: ( | J22: 6 | K22: ) | L22: 360 | M22: ( | N22: 20 | O22: ) | P22: 679 | Q22: ( | R22: 26 | S22: )
B23: 江 崎 | D23: 703 | E23: ( | F23: 19 | G23: ) | H23: 646 | I23: ( | J23: 8 | K23: ) | L23: 724 | M23: ( | N23: 15 | O23: ) | P23: 1370 | Q23: ( | R23: 23 | S23: )
B24: 小 計 | D24: 1094 | E24: ( | F24: 44 | G24: ) | H24: 965 | I24: ( | J24: 14 | K24: ) | L24: 1084 | M24: ( | N24: 35 | O24: ) | P24: 2049 | Q24: ( | R24: 49 | S24: )
A25: むつみ | B25: 吉 部 | D25: 386 | E25: ( | F25: 1 | G25: ) | H25: 320 | I25: ( | J25: 2 | K25: ) | L25: 361 | M25: ( | N25: 0 | O25: ) | P25: 681 | Q25: ( | R25: 2 | S25: )
B26: 高 俣 | D26: 227 | E26: ( | F26: 0 | G26: ) | H26: 196 | I26: ( | J26: 0 | K26: ) | L26: 194 | M26: ( | N26: 0 | O26: ) | P26: 390 | Q26: ( | R26: 0 | S26: )
B27: 小 計 | D27: 613 | E27: ( | F27: 1 | G27: ) | H27: 516 | I27: ( | J27: 2 | K27: ) | L27: 555 | M27: ( | N27: 0 | O27: ) | P27: 1071 | Q27: ( | R27: 2 | S27: )
A28: 須 佐 | B28: 須 佐 | D28: 903 | E28: ( | F28: 11 | G28: ) | H28: 736 | I28: ( | J28: 9 | K28: ) | L28: 833 | M28: ( | N28: 4 | O28: ) | P28: 1569 | Q28: ( | R28: 13 | S28: )
B29: 弥 富 | D29: 204 | E29: ( | F29: 0 | G29: ) | H29: 178 | I29: ( | J29: 0 | K29: ) | L29: 200 | M29: ( | N29: 0 | O29: ) | P29: 378 | Q29: ( | R29: 0 | S29: )
B30: 小 計 | D30: 1107 | E30: ( | F30: 11 | G30: ) | H30: 914 | I30: ( | J30: 9 | K30: ) | L30: 1033 | M30: ( | N30: 4 | O30: ) | P30: 1947 | Q30: ( | R30: 13 | S30: )
A31: 旭 | B31: 明 木 | D31: 397 | E31: ( | F31: 0 | G31: ) | H31: 354 | I31: ( | J31: 0 | K31: ) | L31: 390 | M31: ( | N31: 1 | O31: ) | P31: 744 | Q31: ( | R31: 1 | S31: )
B32: 佐 々 並 | D32: 256 | E32: ( | F32: 0 | G32: ) | H32: 246 | I32: ( | J32: 0 | K32: ) | L32: 258 | M32: ( | N32: 0 | O32: ) | P32: 504 | Q32: ( | R32: 0 | S32: )
B33: 小 計 | D33: 653 | E33: ( | F33: 0 | G33: ) | H33: 600 | I33: ( | J33: 0 | K33: ) | L33: 648 | M33: ( | N33: 1 | O33: ) | P33: 1248 | Q33: ( | R33: 1 | S33: )
A34: 福 栄 | B34: 福 川 | D34: 352 | E34: ( | F34: 0 | G34: ) | H34: 302 | I34: ( | J34: 0 | K34: ) | L34: 346 | M34: ( | N34: 1 | O34: ) | P34: 648 | Q34: ( | R34: 1 | S34: )
B35: 紫 福 | D35: 298 | E35: ( | F35: 1 | G35: ) | H35: 273 | I35: ( | J35: 2 | K35: ) | L35: 308 | M35: ( | N35: 1 | O35: ) | P35: 581 | Q35: ( | R35: 3 | S35: )
B36: 小 計 | D36: 650 | E36: ( | F36: 1 | G36: ) | H36: 575 | I36: ( | J36: 2 | K36: ) | L36: 654 | M36: ( | N36: 2 | O36: ) | P36: 1229 | Q36: ( | R36: 4 | S36: )
A37: 合 計 | D37: 21876 | E37: ( | F37: 403 | G37: ) | H37: 18574 | I37: ( | J37: 233 | K37: ) | L37: 21420 | M37: ( | N37: 281 | O37: ) | P37: 39994 | Q37: ( | R37: 514 | S37: )
A38: ※ 「小畑」及び「越ヶ浜」として再掲した数値は椿東地区に、「木間」として再掲した数値は山田地区に、それぞれ含まれます。
A40: ※ 「住民基本台帳の一部を改正する法律」が平成２４年７月９日に施行されたことに伴い、外国人数が含まれるようになりました。

Sheet 年齢人口（5月末）
A1: （地域別）年齢３区分別人口と割合
L2: 令和８年５月末日現在
A3: 地 域 | D3: 人口 | E3: 3区分別人口 | I3: 3区分別人口の割合
E4: 0～14歳 | F4: 15～64歳 | G4: 65歳 以上 | I4: 0～14歳 | J4: 15～64歳 | K4: 65歳 以上
H5: 内75歳 以上 | L5: 内75歳 以上
A6: 萩 | B6: 川 内 | D6: 13359 | E6: 1329 | F6: 7006 | G6: 5024 | H6: 3056 | I6: 0.099483494 | J6: 0.52444045 | K6: 0.37607605 | L6: 0.22875964
B7: 椿 東 | D7: 9221 | E7: 692 | F7: 4481 | G7: 4048 | H7: 2381 | I7: 0.07504609 | J7: 0.48595597 | K7: 0.43899794 | L7: 0.25821494
C8: 再掲 小 畑 | D8: 1647 | E8: 105 | F8: 745 | G8: 797 | H8: 447 | I8: 0.063752277 | J8: 0.45233758 | K8: 0.48391014 | L8: 0.27140255
C9: 再掲 越ヶ浜 | D9: 1023 | E9: 22 | F9: 406 | G9: 595 | H9: 383 | I9: 0.021505376 | J9: 0.39687195 | K9: 0.58162268 | L9: 0.37438905
B10: 椿 | D10: 3559 | E10: 345 | F10: 1827 | G10: 1387 | H10: 792 | I10: 0.096937342 | J10: 0.51334645 | K10: 0.38971621 | L10: 0.22253442
B11: 山 田 | D11: 2151 | E11: 107 | F11: 954 | G11: 1090 | H11: 680 | I11: 0.049744305 | J11: 0.44351464 | K11: 0.50674105 | L11: 0.31613203
C12: 再掲 木 間 | D12: 85 | E12: 0 | F12: 23 | G12: 62 | H12: 44 | I12: 0 | J12: 0.27058824 | K12: 0.72941176 | L12: 0.51764706
B13: 三 見 | D13: 883 | E13: 20 | F13: 347 | G13: 516 | H13: 334 | I13: 0.022650057 | J13: 0.39297848 | K13: 0.58437146 | L13: 0.37825595
B14: 大 井 | D14: 1448 | E14: 31 | F14: 498 | G14: 919 | H14: 586 | I14: 0.02140884 | J14: 0.34392265 | K14: 0.63466851 | L14: 0.40469613
B15: 大 島 | D15: 504 | E15: 23 | F15: 230 | G15: 251 | H15: 125 | I15: 0.045634921 | J15: 0.45634921 | K15: 0.49801587 | L15: 0.24801587
B16: 相 島 | D16: 99 | E16: 0 | F16: 19 | G16: 80 | H16: 51 | I16: 0 | J16: 0.19191919 | K16: 0.80808081 | L16: 0.51515152
B17: 櫃 島 | D17: 2 | E17: 0 | F17: 0 | G17: 2 | H17: 2 | I17: 0 | J17: 0 | K17: 1 | L17: 1
B18: 見 島 | D18: 551 | E18: 11 | F18: 213 | G18: 327 | H18: 202 | I18: 0.019963702 | J18: 0.38656987 | K18: 0.59346642 | L18: 0.36660617
B19: 小 計 | D19: 31777 | E19: 2558 | F19: 15575 | G19: 13644 | H19: 8209 | I19: 0.080498474 | J19: 0.49013437 | K19: 0.42936715 | L19: 0.2583315
A20: 川上 | B20: 川 上 | D20: 673 | E20: 30 | F20: 259 | G20: 384 | H20: 249 | I20: 0.044576523 | J20: 0.38484398 | K20: 0.57057949 | L20: 0.36998514
B21: 小 計 | D21: 673 | E21: 30 | F21: 259 | G21: 384 | H21: 249 | I21: 0.044576523 | J21: 0.38484398 | K21: 0.57057949 | L21: 0.36998514
A22: 田万川 | B22: 小 川 | D22: 679 | E22: 18 | F22: 275 | G22: 386 | H22: 236 | I22: 0.026509573 | J22: 0.40500736 | K22: 0.56848306 | L22: 0.34756996
B23: 江 崎 | D23: 1370 | E23: 71 | F23: 548 | G23: 751 | H23: 489 | I23: 0.051824818 | J23: 0.4 | K23: 0.54817518 | L23: 0.35693431
B24: 小 計 | D24: 2049 | E24: 89 | F24: 823 | G24: 1137 | H24: 725 | I24: 0.043435822 | J24: 0.40165935 | K24: 0.55490483 | L24: 0.35383114
A25: むつみ | B25: 吉 部 | D25: 681 | E25: 32 | F25: 230 | G25: 419 | H25: 272 | I25: 0.046989721 | J25: 0.33773862 | K25: 0.61527166 | L25: 0.39941263
B26: 高 俣 | D26: 390 | E26: 7 | F26: 137 | G26: 246 | H26: 159 | I26: 0.017948718 | J26: 0.35128205 | K26: 0.63076923 | L26: 0.40769231
B27: 小 計 | D27: 1071 | E27: 39 | F27: 367 | G27: 665 | H27: 431 | I27: 0.036414566 | J27: 0.3426704 | K27: 0.62091503 | L27: 0.40242764
A28: 須 佐 | B28: 須 佐 | D28: 1569 | E28: 75 | F28: 623 | G28: 871 | H28: 571 | I28: 0.047801147 | J28: 0.3970682 | K28: 0.55513066 | L28: 0.36392607
B29: 弥 富 | D29: 378 | E29: 13 | F29: 103 | G29: 262 | H29: 164 | I29: 0.034391534 | J29: 0.27248677 | K29: 0.69312169 | L29: 0.43386243
B30: 小 計 | D30: 1947 | E30: 88 | F30: 726 | G30: 1133 | H30: 735 | I30: 0.04519774 | J30: 0.37288136 | K30: 0.5819209 | L30: 0.37750385
A31: 旭 | B31: 明 木 | D31: 744 | E31: 25 | F31: 287 | G31: 432 | H31: 272 | I31: 0.033602151 | J31: 0.38575269 | K31: 0.58064516 | L31: 0.3655914
B32: 佐 々 並 | D32: 504 | E32: 25 | F32: 179 | G32: 300 | H32: 193 | I32: 0.049603175 | J32: 0.35515873 | K32: 0.5952381 | L32: 0.38293651
B33: 小 計 | D33: 1248 | E33: 50 | F33: 466 | G33: 732 | H33: 465 | I33: 0.040064103 | J33: 0.37339744 | K33: 0.58653846 | L33: 0.37259615
A34: 福 栄 | B34: 福 川 | D34: 648 | E34: 22 | F34: 224 | G34: 402 | H34: 263 | I34: 0.033950617 | J34: 0.34567901 | K34: 0.62037037 | L34: 0.4058642
B35: 紫 福 | D35: 581 | E35: 24 | F35: 205 | G35: 352 | H35: 202 | I35: 0.04130809 | J35: 0.35283993 | K35: 0.60585198 | L35: 0.34767642
B36: 小 計 | D36: 1229 | E36: 46 | F36: 429 | G36: 754 | H36: 465 | I36: 0.037428804 | J36: 0.34906428 | K36: 0.61350692 | L36: 0.37835639
A37: 合 計 | D37: 39994 | E37: 2900 | F37: 18645 | G37: 18449 | H37: 11279 | I37: 0.072510877 | J37: 0.46619493 | K37: 0.46129419 | L37: 0.2820173
A39: ※ 割合は、小数点第２位を四捨五入しているため、合計が100％にならない場合があります。
A40: ※ 「住民基本台帳の一部を改正する法律」が平成２４年７月９日に施行されたことに伴い、外国人数が含まれるようになりました。

Sheet 男女別人口（5月末）
A1: 地域別（年齢）３区分別人口
Q2: 令和８年５月末日現在
A3: 地 域 | D3: 人口 | E3: 年齢３区分別人口
E4: 男 | I4: 女 | N4: 全体
E5: 0～14歳 | F5: 15～64歳 | G5: 65歳 以上 | I5: 0～14歳 | J5: 15～64歳 | L5: 65歳 以上 | N5: 0～14歳 | O5: 15～64歳 | P5: 65歳 以上
H6: 内75歳 以上 | K6: 20～39歳 | M6: 内75歳 以上 | Q6: 内75歳 以上
A7: 萩 | B7: 川 内 | D7: 13359 | E7: 684 | F7: 3347 | G7: 2060 | H7: 1129 | I7: 645 | J7: 3659 | K7: 1092 | L7: 2964 | M7: 1927 | N7: 1329 | O7: 7006 | P7: 5024 | Q7: 3056
B8: 椿 東 | D8: 1005 | E8: 336 | F8: 2338 | G8: 1653 | H8: 886 | I8: 356 | J8: 2143 | K8: 503 | L8: 2395 | M8: 1495 | N8: 692 | O8: 4481 | P8: 4048 | Q8: 2381
C9: 再掲 小 畑 | D9: 624 | E9: 54 | F9: 418 | G9: 319 | H9: 167 | I9: 51 | J9: 327 | K9: 93 | L9: 478 | M9: 280 | N9: 105 | O9: 745 | P9: 797 | Q9: 447
C10: 再掲 越ヶ浜 | D10: 1023 | E10: 15 | F10: 221 | G10: 248 | H10: 137 | I10: 7 | J10: 185 | K10: 37 | L10: 347 | M10: 246 | N10: 22 | O10: 406 | P10: 595 | Q10: 383
B11: 椿 | D11: 3559 | E11: 178 | F11: 889 | G11: 550 | H11: 277 | I11: 167 | J11: 938 | K11: 261 | L11: 837 | M11: 515 | N11: 345 | O11: 1827 | P11: 1387 | Q11: 792
B12: 山 田 | D12: 59 | E12: 53 | F12: 483 | G12: 440 | H12: 255 | I12: 54 | J12: 471 | K12: 104 | L12: 650 | M12: 425 | N12: 107 | O12: 954 | P12: 1090 | Q12: 680
C13: 再掲 木 間 | D13: 85 | E13: 0 | F13: 13 | G13: 26 | H13: 20 | I13: 0 | J13: 10 | K13: 2 | L13: 36 | M13: 24 | N13: 0 | O13: 23 | P13: 62 | Q13: 44
B14: 三 見 | D14: 883 | E14: 9 | F14: 183 | G14: 214 | H14: 130 | I14: 11 | J14: 164 | K14: 28 | L14: 302 | M14: 204 | N14: 20 | O14: 347 | P14: 516 | Q14: 334
B15: 大 井 | D15: 1448 | E15: 14 | F15: 257 | G15: 387 | H15: 223 | I15: 17 | J15: 241 | K15: 47 | L15: 532 | M15: 363 | N15: 31 | O15: 498 | P15: 919 | Q15: 586
B16: 大 島 | D16: 504 | E16: 12 | F16: 124 | G16: 113 | H16: 48 | I16: 11 | J16: 106 | K16: 32 | L16: 138 | M16: 77 | N16: 23 | O16: 230 | P16: 251 | Q16: 125
B17: 相 島 | E17: 0 | F17: 8 | G17: 33 | H17: 20 | I17: 0 | J17: 11 | K17: 0 | L17: 47 | M17: 31 | N17: 0 | O17: 19 | P17: 80 | Q17: 51
B18: 櫃 島 | D18: 2 | E18: 0 | F18: 0 | G18: 1 | H18: 1 | I18: 0 | J18: 0 | K18: 0 | L18: 1 | M18: 1 | N18: 0 | O18: 0 | P18: 2 | Q18: 2
B19: 見 島 | D19: 551 | E19: 6 | F19: 166 | G19: 138 | H19: 84 | I19: 5 | J19: 47 | K19: 14 | L19: 189 | M19: 118 | N19: 11 | O19: 213 | P19: 327 | Q19: 202
B20: 小 計 | D20: 31777 | E20: 1292 | F20: 7795 | G20: 5589 | H20: 3053 | I20: 1266 | J20: 7780 | K20: 2081 | L20: 8055 | M20: 5156 | N20: 2558 | O20: 15575 | P20: 13644 | Q20: 8209
A21: 川上 | B21: 川 上 | D21: 673 | E21: 14 | F21: 143 | G21: 171 | H21: 98 | I21: 16 | J21: 116 | K21: 27 | L21: 213 | M21: 151 | N21: 30 | O21: 259 | P21: 384 | Q21: 249
B22: 小 計 | D22: 673 | E22: 14 | F22: 143 | G22: 171 | H22: 98 | I22: 16 | J22: 116 | K22: 27 | L22: 213 | M22: 151 | N22: 30 | O22: 259 | P22: 384 | Q22: 249
A23: 田万川 | B23: 小 川 | D23: 679 | E23: 7 | F23: 137 | G23: 175 | H23: 98 | I23: 11 | J23: 138 | K23: 36 | L23: 211 | M23: 138 | N23: 18 | O23: 275 | P23: 386 | Q23: 236
B24: 江 崎 | D24: 1370 | E24: 36 | F24: 277 | G24: 333 | H24: 201 | I24: 35 | J24: 271 | K24: 58 | L24: 418 | M24: 288 | N24: 71 | O24: 548 | P24: 751 | Q24: 489
B25: 小 計 | D25: 2049 | E25: 43 | F25: 414 | G25: 508 | H25: 299 | I25: 46 | J25: 409 | K25: 94 | L25: 629 | M25: 426 | N25: 89 | O25: 823 | P25: 1137 | Q25: 725
A26: むつみ | B26: 吉 部 | D26: 681 | E26: 18 | F26: 119 | G26: 183 | H26: 106 | I26: 14 | J26: 111 | K26: 21 | L26: 236 | M26: 166 | N26: 32 | O26: 230 | P26: 419 | Q26: 272
B27: 高 俣 | D27: 390 | E27: 4 | F27: 81 | G27: 111 | H27: 65 | I27: 3 | J27: 56 | K27: 9 | L27: 135 | M27: 94 | N27: 7 | O27: 137 | P27: 246 | Q27: 159
B28: 小 計 | D28: 1071 | E28: 22 | F28: 200 | G28: 294 | H28: 171 | I28: 17 | J28: 167 | K28: 30 | L28: 371 | M28: 260 | N28: 39 | O28: 367 | P28: 665 | Q28: 431
A29: 須 佐 | B29: 須 佐 | D29: 1569 | E29: 36 | F29: 325 | G29: 375 | H29: 224 | I29: 39 | J29: 298 | K29: 55 | L29: 496 | M29: 347 | N29: 75 | O29: 623 | P29: 871 | Q29: 571
B30: 弥 富 | D30: 378 | E30: 6 | F30: 51 | G30: 121 | H30: 71 | I30: 7 | J30: 52 | K30: 11 | L30: 141 | M30: 93 | N30: 13 | O30: 103 | P30: 262 | Q30: 164
B31: 小 計 | D31: 1947 | E31: 42 | F31: 376 | G31: 496 | H31: 295 | I31: 46 | J31: 350 | K31: 66 | L31: 637 | M31: 440 | N31: 88 | O31: 726 | P31: 1133 | Q31: 735
A32: 旭 | B32: 明 木 | D32: 744 | E32: 14 | F32: 156 | G32: 184 | H32: 101 | I32: 11 | J32: 131 | K32: 22 | L32: 248 | M32: 171 | N32: 25 | O32: 287 | P32: 432 | Q32: 272
B33: 佐 々 並 | D33: 504 | E33: 14 | F33: 94 | G33: 138 | H33: 83 | I33: 11 | J33: 85 | K33: 10 | L33: 162 | M33: 110 | N33: 25 | O33: 179 | P33: 300 | Q33: 193
B34: 小 計 | D34: 1248 | E34: 28 | F34: 250 | G34: 322 | H34: 184 | I34: 22 | J34: 216 | K34: 32 | L34: 410 | M34: 281 | N34: 50 | O34: 466 | P34: 732 | Q34: 465
A35: 福 栄 | B35: 福 川 | D35: 648 | E35: 12 | F35: 121 | G35: 169 | H35: 105 | I35: 10 | J35: 103 | K35: 14 | L35: 233 | M35: 158 | N35: 22 | O35: 224 | P35: 402 | Q35: 263
B36: 紫 福 | D36: 581 | E36: 12 | F36: 102 | G36: 159 | H36: 81 | I36: 12 | J36: 103 | K36: 21 | L36: 193 | M36: 121 | N36: 24 | O36: 205 | P36: 352 | Q36: 202
B37: 小 計 | D37: 1229 | E37: 24 | F37: 223 | G37: 328 | H37: 186 | I37: 22 | J37: 206 | K37: 35 | L37: 426 | M37: 279 | N37: 46 | O37: 429 | P37: 754 | Q37: 465
A38: 合 計 | D38: 39994 | E38: 1465 | F38: 9401 | G38: 7708 | H38: 4286 | I38: 1435 | J38: 9244 | K38: 2365 | L38: 10741 | M38: 6993 | N38: 2900 | O38: 18645 | P38: 18449 | Q38: 11279
A39: ※ 「住民基本台帳の一部を改正する法律」が平成２４年７月９日に施行されたことに伴い、外国人数が含まれるようになりました。

Sheet 人口と世帯数（６月末）
A1: 地域別人口 と 世帯数
R2: 令和８年６月末日現在
H3: 住民基本台帳より、( )内は外国人のうち数
A4: 地 域 | D4: 世 帯 数 | H4: 人 口
H5: 男 | L5: 女 | P5: 計
A6: 萩 | B6: 川 内 | D6: 7195 | E6: ( | F6: 157 | G6: ) | H6: 6095 | I6: ( | J6: 51 | K6: ) | L6: 7267 | M6: ( | N6: 149 | O6: ) | P6: 13362 | Q6: ( | R6: 200 | S6: )
B7: 椿 東 | D7: 5041 | E7: ( | F7: 115 | G7: ) | H7: 4306 | I7: ( | J7: 90 | K7: ) | L7: 4882 | M7: ( | N7: 49 | O7: ) | P7: 9188 | Q7: ( | R7: 139 | S7: )
C8: 再掲 小 畑 | D8: 958 | E8: ( | F8: 14 | G8: ) | H8: 781 | I8: ( | J8: 4 | K8: ) | L8: 850 | M8: ( | N8: 14 | O8: ) | P8: 1631 | Q8: ( | R8: 18 | S8: )
C9: 再掲 越ヶ浜 | D9: 590 | E9: ( | F9: 20 | G9: ) | H9: 483 | I9: ( | J9: 5 | K9: ) | L9: 539 | M9: ( | N9: 16 | O9: ) | P9: 1022 | Q9: ( | R9: 21 | S9: )
B10: 椿 | D10: 1850 | E10: ( | F10: 24 | G10: ) | H10: 1617 | I10: ( | J10: 14 | K10: ) | L10: 1941 | M10: ( | N10: 15 | O10: ) | P10: 3558 | Q10: ( | R10: 29 | S10: )
B11: 山 田 | D11: 1234 | E11: ( | F11: 10 | G11: ) | H11: 974 | I11: ( | J11: 9 | K11: ) | L11: 1179 | M11: ( | N11: 5 | O11: ) | P11: 2153 | Q11: ( | R11: 14 | S11: )
C12: 再掲 木 間 | D12: 54 | E12: ( | F12: 0 | G12: ) | H12: 39 | I12: ( | J12: 0 | K12: ) | L12: 46 | M12: ( | N12: 0 | O12: ) | P12: 85 | Q12: ( | R12: 0 | S12: )
B13: 三 見 | D13: 506 | E13: ( | F13: 0 | G13: ) | H13: 404 | I13: ( | J13: 0 | K13: ) | L13: 478 | M13: ( | N13: 2 | O13: ) | P13: 882 | Q13: ( | R13: 2 | S13: )
B14: 大 井 | D14: 834 | E14: ( | F14: 9 | G14: ) | H14: 658 | I14: ( | J14: 1 | K14: ) | L14: 785 | M14: ( | N14: 10 | O14: ) | P14: 1443 | Q14: ( | R14: 11 | S14: )
B15: 大 島 | D15: 245 | E15: ( | F15: 0 | G15: ) | H15: 250 | I15: ( | J15: 0 | K15: ) | L15: 254 | M15: ( | N15: 0 | O15: ) | P15: 504 | Q15: ( | R15: 0 | S15: )
B16: 相 島 | D16: 56 | E16: ( | F16: 0 | G16: ) | H16: 42 | I16: ( | J16: 0 | K16: ) | L16: 57 | M16: ( | N16: 0 | O16: ) | P16: 99 | Q16: ( | R16: 0 | S16: )
B17: 櫃 島 | D17: 1 | E17: ( | F17: 0 | G17: ) | H17: 1 | I17: ( | J17: 0 | K17: ) | L17: 1 | M17: ( | N17: 0 | O17: ) | P17: 2 | Q17: ( | R17: 0 | S17: )
B18: 見 島 | D18: 385 | E18: ( | F18: 0 | G18: ) | H18: 310 | I18: ( | J18: 0 | K18: ) | L18: 241 | M18: ( | N18: 0 | O18: ) | P18: 551 | Q18: ( | R18: 0 | S18: )
B19: 小 計 | D19: 17347 | E19: ( | F19: 315 | G19: ) | H19: 14657 | I19: ( | J19: 165 | K19: ) | L19: 17085 | M19: ( | N19: 230 | O19: ) | P19: 31742 | Q19: ( | R19: 395 | S19: )
A20: 川 上 | B20: 川 上 | D20: 403 | E20: ( | F20: 36 | G20: ) | H20: 328 | I20: ( | J20: 40 | K20: ) | L20: 344 | M20: ( | N20: 14 | O20: ) | P20: 672 | Q20: ( | R20: 54 | S20: )
B21: 小 計 | D21: 403 | E21: ( | F21: 36 | G21: ) | H21: 328 | I21: ( | J21: 40 | K21: ) | L21: 344 | M21: ( | N21: 14 | O21: ) | P21: 672 | Q21: ( | R21: 54 | S21: )
A22: 田万川 | B22: 小 川 | D22: 394 | E22: ( | F22: 27 | G22: ) | H22: 317 | I22: ( | J22: 5 | K22: ) | L22: 363 | M22: ( | N22: 23 | O22: ) | P22: 680 | Q22: ( | R22: 28 | S22: )
B23: 江 崎 | D23: 700 | E23: ( | F23: 18 | G23: ) | H23: 641 | I23: ( | J23: 7 | K23: ) | L23: 720 | M23: ( | N23: 15 | O23: ) | P23: 1361 | Q23: ( | R23: 22 | S23: )
B24: 小 計 | D24: 1094 | E24: ( | F24: 45 | G24: ) | H24: 958 | I24: ( | J24: 12 | K24: ) | L24: 1083 | M24: ( | N24: 38 | O24: ) | P24: 2041 | Q24: ( | R24: 50 | S24: )
A25: むつみ | B25: 吉 部 | D25: 387 | E25: ( | F25: 0 | G25: ) | H25: 319 | I25: ( | J25: 1 | K25: ) | L25: 361 | M25: ( | N25: 0 | O25: ) | P25: 680 | Q25: ( | R25: 1 | S25: )
B26: 高 俣 | D26: 226 | E26: ( | F26: 0 | G26: ) | H26: 196 | I26: ( | J26: 0 | K26: ) | L26: 193 | M26: ( | N26: 0 | O26: ) | P26: 389 | Q26: ( | R26: 0 | S26: )
B27: 小 計 | D27: 613 | E27: ( | F27: 0 | G27: ) | H27: 515 | I27: ( | J27: 1 | K27: ) | L27: 554 | M27: ( | N27: 0 | O27: ) | P27: 1069 | Q27: ( | R27: 1 | S27: )
A28: 須 佐 | B28: 須 佐 | D28: 899 | E28: ( | F28: 11 | G28: ) | H28: 733 | I28: ( | J28: 9 | K28: ) | L28: 834 | M28: ( | N28: 4 | O28: ) | P28: 1567 | Q28: ( | R28: 13 | S28: )
B29: 弥 富 | D29: 205 | E29: ( | F29: 0 | G29: ) | H29: 177 | I29: ( | J29: 0 | K29: ) | L29: 200 | M29: ( | N29: 0 | O29: ) | P29: 377 | Q29: ( | R29: 0 | S29: )
B30: 小 計 | D30: 1104 | E30: ( | F30: 11 | G30: ) | H30: 910 | I30: ( | J30: 9 | K30: ) | L30: 1034 | M30: ( | N30: 4 | O30: ) | P30: 1944 | Q30: ( | R30: 13 | S30: )
A31: 旭 | B31: 明 木 | D31: 397 | E31: ( | F31: 0 | G31: ) | H31: 354 | I31: ( | J31: 0 | K31: ) | L31: 388 | M31: ( | N31: 1 | O31: ) | P31: 742 | Q31: ( | R31: 1 | S31: )
B32: 佐 々 並 | D32: 256 | E32: ( | F32: 0 | G32: ) | H32: 247 | I32: ( | J32: 0 | K32: ) | L32: 258 | M32: ( | N32: 0 | O32: ) | P32: 505 | Q32: ( | R32: 0 | S32: )
B33: 小 計 | D33: 653 | E33: ( | F33: 0 | G33: ) | H33: 601 | I33: ( | J33: 0 | K33: ) | L33: 646 | M33: ( | N33: 1 | O33: ) | P33: 1247 | Q33: ( | R33: 1 | S33: )
A34: 福 栄 | B34: 福 川 | D34: 353 | E34: ( | F34: 0 | G34: ) | H34: 302 | I34: ( | J34: 0 | K34: ) | L34: 345 | M34: ( | N34: 1 | O34: ) | P34: 647 | Q34: ( | R34: 1 | S34: )
B35: 紫 福 | D35: 298 | E35: ( | F35: 1 | G35: ) | H35: 273 | I35: ( | J35: 2 | K35: ) | L35: 308 | M35: ( | N35: 1 | O35: ) | P35: 581 | Q35: ( | R35: 3 | S35: )
B36: 小 計 | D36: 651 | E36: ( | F36: 1 | G36: ) | H36: 575 | I36: ( | J36: 2 | K36: ) | L36: 653 | M36: ( | N36: 2 | O36: ) | P36: 1228 | Q36: ( | R36: 4 | S36: )
A37: 合 計 | D37: 21865 | E37: ( | F37: 408 | G37: ) | H37: 18544 | I37: ( | J37: 229 | K37: ) | L37: 21399 | M37: ( | N37: 289 | O37: ) | P37: 39943 | Q37: ( | R37: 518 | S37: )
A38: ※ 「小畑」及び「越ヶ浜」として再掲した数値は椿東地区に、「木間」として再掲した数値は山田地区に、それぞれ含まれます。
A40: ※ 「住民基本台帳の一部を改正する法律」が平成２４年７月９日に施行されたことに伴い、外国人数が含まれるようになりました。

Sheet 年齢人口（6月末）
A1: （地域別）年齢３区分別人口と割合
L2: 令和８年６月末日現在
A3: 地 域 | D3: 人口 | E3: 3区分別人口 | I3: 3区分別人口の割合
E4: 0～14歳 | F4: 15～64歳 | G4: 65歳 以上 | I4: 0～14歳 | J4: 15～64歳 | K4: 65歳 以上
H5: 内75歳 以上 | L5: 内75歳 以上
A6: 萩 | B6: 川 内 | D6: 13362 | E6: 1325 | F6: 7011 | G6: 5026 | H6: 3054 | I6: 0.099161802 | J6: 0.5246969 | K6: 0.3761413 | L6: 0.2285586
B7: 椿 東 | D7: 9188 | E7: 684 | F7: 4474 | G7: 4030 | H7: 2380 | I7: 0.074444928 | J7: 0.48693949 | K7: 0.43861559 | L7: 0.25903352
C8: 再掲 小 畑 | D8: 1631 | E8: 103 | F8: 736 | G8: 792 | H8: 446 | I8: 0.063151441 | J8: 0.4512569 | K8: 0.48559166 | L8: 0.27345187
C9: 再掲 越ヶ浜 | D9: 1022 | E9: 22 | F9: 408 | G9: 592 | H9: 380 | I9: 0.021526419 | J9: 0.39921722 | K9: 0.57925636 | L9: 0.37181996
B10: 椿 | D10: 3558 | E10: 342 | F10: 1822 | G10: 1394 | H10: 798 | I10: 0.096121417 | J10: 0.51208544 | K10: 0.39179314 | L10: 0.22428331
B11: 山 田 | D11: 2153 | E11: 108 | F11: 952 | G11: 1093 | H11: 684 | I11: 0.050162564 | J11: 0.44217371 | K11: 0.50766373 | L11: 0.31769624
C12: 再掲 木 間 | D12: 85 | E12: 0 | F12: 23 | G12: 62 | H12: 44 | I12: 0 | J12: 0.27058824 | K12: 0.72941176 | L12: 0.51764706
B13: 三 見 | D13: 882 | E13: 19 | F13: 346 | G13: 517 | H13: 337 | I13: 0.02154195 | J13: 0.39229025 | K13: 0.5861678 | L13: 0.38208617
B14: 大 井 | D14: 1443 | E14: 30 | F14: 499 | G14: 914 | H14: 584 | I14: 0.020790021 | J14: 0.34580735 | K14: 0.63340263 | L14: 0.4047124
B15: 大 島 | D15: 504 | E15: 23 | F15: 231 | G15: 250 | H15: 125 | I15: 0.045634921 | J15: 0.45833333 | K15: 0.49603175 | L15: 0.24801587
B16: 相 島 | D16: 99 | E16: 0 | F16: 20 | G16: 79 | H16: 50 | I16: 0 | J16: 0.2020202 | K16: 0.7979798 | L16: 0.50505051
B17: 櫃 島 | D17: 2 | E17: 0 | F17: 0 | G17: 2 | H17: 2 | I17: 0 | J17: 0 | K17: 1 | L17: 1
B18: 見 島 | D18: 551 | E18: 11 | F18: 213 | G18: 327 | H18: 202 | I18: 0.019963702 | J18: 0.38656987 | K18: 0.59346642 | L18: 0.36660617
B19: 小 計 | D19: 31742 | E19: 2542 | F19: 15568 | G19: 13632 | H19: 8216 | I19: 0.080083171 | J19: 0.49045429 | K19: 0.42946254 | L19: 0.25883687
A20: 川上 | B20: 川 上 | D20: 672 | E20: 30 | F20: 258 | G20: 384 | H20: 250 | I20: 0.044642857 | J20: 0.38392857 | K20: 0.57142857 | L20: 0.37202381
B21: 小 計 | D21: 672 | E21: 30 | F21: 258 | G21: 384 | H21: 250 | I21: 0.044642857 | J21: 0.38392857 | K21: 0.57142857 | L21: 0.37202381
A22: 田万川 | B22: 小 川 | D22: 680 | E22: 18 | F22: 280 | G22: 382 | H22: 234 | I22: 0.026470588 | J22: 0.41176471 | K22: 0.56176471 | L22: 0.34411765
B23: 江 崎 | D23: 1361 | E23: 70 | F23: 542 | G23: 749 | H23: 488 | I23: 0.05143277 | J23: 0.39823659 | K23: 0.55033064 | L23: 0.35855988
B24: 小 計 | D24: 2041 | E24: 88 | F24: 822 | G24: 1131 | H24: 722 | I24: 0.04311612 | J24: 0.40274375 | K24: 0.55414013 | L24: 0.35374816
A25: むつみ | B25: 吉 部 | D25: 680 | E25: 32 | F25: 227 | G25: 421 | H25: 275 | I25: 0.047058824 | J25: 0.33382353 | K25: 0.61911765 | L25: 0.40441176
B26: 高 俣 | D26: 389 | E26: 7 | F26: 137 | G26: 245 | H26: 158 | I26: 0.017994859 | J26: 0.35218509 | K26: 0.62982005 | L26: 0.40616967
B27: 小 計 | D27: 1069 | E27: 39 | F27: 364 | G27: 666 | H27: 433 | I27: 0.036482694 | J27: 0.34050514 | K27: 0.62301216 | L27: 0.40505145
A28: 須 佐 | B28: 須 佐 | D28: 1567 | E28: 76 | F28: 624 | G28: 867 | H28: 569 | I28: 0.048500319 | J28: 0.39821315 | K28: 0.55328653 | L28: 0.36311423
B29: 弥 富 | D29: 377 | E29: 13 | F29: 103 | G29: 261 | H29: 163 | I29: 0.034482759 | J29: 0.27320955 | K29: 0.69230769 | L29: 0.43236074
B30: 小 計 | D30: 1944 | E30: 89 | F30: 727 | G30: 1128 | H30: 732 | I30: 0.045781893 | J30: 0.37397119 | K30: 0.58024691 | L30: 0.37654321
A31: 旭 | B31: 明 木 | D31: 742 | E31: 25 | F31: 285 | G31: 432 | H31: 271 | I31: 0.033692722 | J31: 0.38409704 | K31: 0.58221024 | L31: 0.36522911
B32: 佐 々 並 | D32: 505 | E32: 25 | F32: 180 | G32: 300 | H32: 193 | I32: 0.04950495 | J32: 0.35643564 | K32: 0.59405941 | L32: 0.38217822
B33: 小 計 | D33: 1247 | E33: 50 | F33: 465 | G33: 732 | H33: 464 | I33: 0.040096231 | J33: 0.37289495 | K33: 0.58700882 | L33: 0.37209302
A34: 福 栄 | B34: 福 川 | D34: 647 | E34: 22 | F34: 224 | G34: 401 | H34: 262 | I34: 0.034003091 | J34: 0.34621329 | K34: 0.61978362 | L34: 0.4049459
B35: 紫 福 | D35: 581 | E35: 24 | F35: 204 | G35: 353 | H35: 203 | I35: 0.04130809 | J35: 0.35111876 | K35: 0.60757315 | L35: 0.34939759
B36: 小 計 | D36: 1228 | E36: 46 | F36: 428 | G36: 754 | H36: 465 | I36: 0.037459283 | J36: 0.3485342 | K36: 0.61400651 | L36: 0.3786645
A37: 合 計 | D37: 39943 | E37: 2884 | F37: 18632 | G37: 18427 | H37: 11282 | I37: 0.072202889 | J37: 0.46646471 | K37: 0.4613324 | L37: 0.28245249
A39: ※ 割合は、小数点第２位を四捨五入しているため、合計が100％にならない場合があります。
A40: ※ 「住民基本台帳の一部を改正する法律」が平成２４年７月９日に施行されたことに伴い、外国人数が含まれるようになりました。

Sheet 男女別人口（6月末）
A1: 地域別（年齢）３区分別人口
Q2: 令和８年６月末日現在
A3: 地 域 | D3: 人口 | E3: 年齢３区分別人口
E4: 男 | I4: 女 | N4: 全体
E5: 0～14歳 | F5: 15～64歳 | G5: 65歳 以上 | I5: 0～14歳 | J5: 15～64歳 | L5: 65歳 以上 | N5: 0～14歳 | O5: 15～64歳 | P5: 65歳 以上
H6: 内75歳 以上 | K6: 20～39歳 | M6: 内75歳 以上 | Q6: 内75歳 以上
A7: 萩 | B7: 川 内 | D7: 13362 | E7: 684 | F7: 3345 | G7: 2066 | H7: 1131 | I7: 641 | J7: 3666 | K7: 1095 | L7: 2960 | M7: 1923 | N7: 1325 | O7: 7011 | P7: 5026 | Q7: 3054
B8: 椿 東 | D8: 1005 | E8: 331 | F8: 2334 | G8: 1641 | H8: 887 | I8: 353 | J8: 2140 | K8: 499 | L8: 2389 | M8: 1493 | N8: 684 | O8: 4474 | P8: 4030 | Q8: 2380
C9: 再掲 小 畑 | D9: 624 | E9: 54 | F9: 412 | G9: 315 | H9: 166 | I9: 49 | J9: 324 | K9: 90 | L9: 477 | M9: 280 | N9: 103 | O9: 736 | P9: 792 | Q9: 446
C10: 再掲 越ヶ浜 | D10: 1022 | E10: 15 | F10: 220 | G10: 248 | H10: 137 | I10: 7 | J10: 188 | K10: 37 | L10: 344 | M10: 243 | N10: 22 | O10: 408 | P10: 592 | Q10: 380
B11: 椿 | D11: 3558 | E11: 176 | F11: 887 | G11: 554 | H11: 283 | I11: 166 | J11: 935 | K11: 259 | L11: 840 | M11: 515 | N11: 342 | O11: 1822 | P11: 1394 | Q11: 798
B12: 山 田 | D12: 59 | E12: 53 | F12: 481 | G12: 440 | H12: 255 | I12: 55 | J12: 471 | K12: 106 | L12: 653 | M12: 429 | N12: 108 | O12: 952 | P12: 1093 | Q12: 684
C13: 再掲 木 間 | D13: 85 | E13: 0 | F13: 13 | G13: 26 | H13: 20 | I13: 0 | J13: 10 | K13: 2 | L13: 36 | M13: 24 | N13: 0 | O13: 23 | P13: 62 | Q13: 44
B14: 三 見 | D14: 882 | E14: 9 | F14: 181 | G14: 214 | H14: 130 | I14: 10 | J14: 165 | K14: 28 | L14: 303 | M14: 207 | N14: 19 | O14: 346 | P14: 517 | Q14: 337
B15: 大 井 | D15: 1443 | E15: 13 | F15: 258 | G15: 387 | H15: 224 | I15: 17 | J15: 241 | K15: 46 | L15: 527 | M15: 360 | N15: 30 | O15: 499 | P15: 914 | Q15: 584
B16: 大 島 | D16: 504 | E16: 12 | F16: 126 | G16: 112 | H16: 48 | I16: 11 | J16: 105 | K16: 31 | L16: 138 | M16: 77 | N16: 23 | O16: 231 | P16: 250 | Q16: 125
B17: 相 島 | E17: 0 | F17: 9 | G17: 33 | H17: 20 | I17: 0 | J17: 11 | K17: 0 | L17: 46 | M17: 30 | N17: 0 | O17: 20 | P17: 79 | Q17: 50
B18: 櫃 島 | D18: 2 | E18: 0 | F18: 0 | G18: 1 | H18: 1 | I18: 0 | J18: 0 | K18: 0 | L18: 1 | M18: 1 | N18: 0 | O18: 0 | P18: 2 | Q18: 2
B19: 見 島 | D19: 551 | E19: 6 | F19: 166 | G19: 138 | H19: 84 | I19: 5 | J19: 47 | K19: 14 | L19: 189 | M19: 118 | N19: 11 | O19: 213 | P19: 327 | Q19: 202
B20: 小 計 | D20: 31742 | E20: 1284 | F20: 7787 | G20: 5586 | H20: 3063 | I20: 1258 | J20: 7781 | K20: 2078 | L20: 8046 | M20: 5153 | N20: 2542 | O20: 15568 | P20: 13632 | Q20: 8216
A21: 川上 | B21: 川 上 | D21: 672 | E21: 14 | F21: 143 | G21: 171 | H21: 99 | I21: 16 | J21: 115 | K21: 27 | L21: 213 | M21: 151 | N21: 30 | O21: 258 | P21: 384 | Q21: 250
B22: 小 計 | D22: 672 | E22: 14 | F22: 143 | G22: 171 | H22: 99 | I22: 16 | J22: 115 | K22: 27 | L22: 213 | M22: 151 | N22: 30 | O22: 258 | P22: 384 | Q22: 250
A23: 田万川 | B23: 小 川 | D23: 680 | E23: 7 | F23: 138 | G23: 172 | H23: 96 | I23: 11 | J23: 142 | K23: 39 | L23: 210 | M23: 138 | N23: 18 | O23: 280 | P23: 382 | Q23: 234
B24: 江 崎 | D24: 1361 | E24: 36 | F24: 273 | G24: 332 | H24: 201 | I24: 34 | J24: 269 | K24: 58 | L24: 417 | M24: 287 | N24: 70 | O24: 542 | P24: 749 | Q24: 488
B25: 小 計 | D25: 2041 | E25: 43 | F25: 411 | G25: 504 | H25: 297 | I25: 45 | J25: 411 | K25: 97 | L25: 627 | M25: 425 | N25: 88 | O25: 822 | P25: 1131 | Q25: 722
A26: むつみ | B26: 吉 部 | D26: 680 | E26: 18 | F26: 117 | G26: 184 | H26: 108 | I26: 14 | J26: 110 | K26: 21 | L26: 237 | M26: 167 | N26: 32 | O26: 227 | P26: 421 | Q26: 275
B27: 高 俣 | D27: 389 | E27: 4 | F27: 81 | G27: 111 | H27: 65 | I27: 3 | J27: 56 | K27: 9 | L27: 134 | M27: 93 | N27: 7 | O27: 137 | P27: 245 | Q27: 158
B28: 小 計 | D28: 1069 | E28: 22 | F28: 198 | G28: 295 | H28: 173 | I28: 17 | J28: 166 | K28: 30 | L28: 371 | M28: 260 | N28: 39 | O28: 364 | P28: 666 | Q28: 433
A29: 須 佐 | B29: 須 佐 | D29: 1567 | E29: 36 | F29: 325 | G29: 372 | H29: 223 | I29: 40 | J29: 299 | K29: 52 | L29: 495 | M29: 346 | N29: 76 | O29: 624 | P29: 867 | Q29: 569
B30: 弥 富 | D30: 377 | E30: 6 | F30: 51 | G30: 120 | H30: 70 | I30: 7 | J30: 52 | K30: 11 | L30: 141 | M30: 93 | N30: 13 | O30: 103 | P30: 261 | Q30: 163
B31: 小 計 | D31: 1944 | E31: 42 | F31: 376 | G31: 492 | H31: 293 | I31: 47 | J31: 351 | K31: 63 | L31: 636 | M31: 439 | N31: 89 | O31: 727 | P31: 1128 | Q31: 732
A32: 旭 | B32: 明 木 | D32: 742 | E32: 14 | F32: 156 | G32: 184 | H32: 101 | I32: 11 | J32: 129 | K32: 21 | L32: 248 | M32: 170 | N32: 25 | O32: 285 | P32: 432 | Q32: 271
B33: 佐 々 並 | D33: 505 | E33: 14 | F33: 95 | G33: 138 | H33: 83 | I33: 11 | J33: 85 | K33: 11 | L33: 162 | M33: 110 | N33: 25 | O33: 180 | P33: 300 | Q33: 193
B34: 小 計 | D34: 1247 | E34: 28 | F34: 251 | G34: 322 | H34: 184 | I34: 22 | J34: 214 | K34: 32 | L34: 410 | M34: 280 | N34: 50 | O34: 465 | P34: 732 | Q34: 464
A35: 福 栄 | B35: 福 川 | D35: 647 | E35: 12 | F35: 122 | G35: 168 | H35: 104 | I35: 10 | J35: 102 | K35: 14 | L35: 233 | M35: 158 | N35: 22 | O35: 224 | P35: 401 | Q35: 262
B36: 紫 福 | D36: 581 | E36: 12 | F36: 102 | G36: 159 | H36: 82 | I36: 12 | J36: 102 | K36: 21 | L36: 194 | M36: 121 | N36: 24 | O36: 204 | P36: 353 | Q36: 203
B37: 小 計 | D37: 1228 | E37: 24 | F37: 224 | G37: 327 | H37: 186 | I37: 22 | J37: 204 | K37: 35 | L37: 427 | M37: 279 | N37: 46 | O37: 428 | P37: 754 | Q37: 465
A38: 合 計 | D38: 39943 | E38: 1457 | F38: 9390 | G38: 7697 | H38: 4295 | I38: 1427 | J38: 9242 | K38: 2362 | L38: 10730 | M38: 6987 | N38: 2884 | O38: 18632 | P38: 18427 | Q38: 11282
A39: ※ 「住民基本台帳の一部を改正する法律」が平成２４年７月９日に施行されたことに伴い、外国人数が含まれるようになりました。

Sheet 人口と世帯数（7月末）
A1: 地域別人口 と 世帯数
R2: 令和８年７月末日現在
H3: 住民基本台帳より、( )内は外国人のうち数
A4: 地 域 | D4: 世 帯 数 | H4: 人 口
H5: 男 | L5: 女 | P5: 計
A6: 萩 | B6: 川 内 | D6: 7195 | E6: ( | F6: 159 | G6: ) | H6: 6089 | I6: ( | J6: 52 | K6: ) | L6: 7271 | M6: ( | N6: 151 | O6: ) | P6: 13360 | Q6: ( | R6: 203 | S6: )
B7: 椿 東 | D7: 5034 | E7: ( | F7: 116 | G7: ) | H7: 4297 | I7: ( | J7: 92 | K7: ) | L7: 4868 | M7: ( | N7: 49 | O7: ) | P7: 9165 | Q7: ( | R7: 141 | S7: )
C8: 再掲 小 畑 | D8: 956 | E8: ( | F8: 14 | G8: ) | H8: 779 | I8: ( | J8: 4 | K8: ) | L8: 846 | M8: ( | N8: 14 | O8: ) | P8: 1625 | Q8: ( | R8: 18 | S8: )
C9: 再掲 越ヶ浜 | D9: 590 | E9: ( | F9: 20 | G9: ) | H9: 485 | I9: ( | J9: 6 | K9: ) | L9: 537 | M9: ( | N9: 16 | O9: ) | P9: 1022 | Q9: ( | R9: 22 | S9: )
B10: 椿 | D10: 1847 | E10: ( | F10: 23 | G10: ) | H10: 1611 | I10: ( | J10: 13 | K10: ) | L10: 1938 | M10: ( | N10: 15 | O10: ) | P10: 3549 | Q10: ( | R10: 28 | S10: )
B11: 山 田 | D11: 1229 | E11: ( | F11: 10 | G11: ) | H11: 971 | I11: ( | J11: 9 | K11: ) | L11: 1170 | M11: ( | N11: 6 | O11: ) | P11: 2141 | Q11: ( | R11: 15 | S11: )
C12: 再掲 木 間 | D12: 54 | E12: ( | F12: 0 | G12: ) | H12: 39 | I12: ( | J12: 0 | K12: ) | L12: 46 | M12: ( | N12: 0 | O12: ) | P12: 85 | Q12: ( | R12: 0 | S12: )
B13: 三 見 | D13: 506 | E13: ( | F13: 0 | G13: ) | H13: 403 | I13: ( | J13: 0 | K13: ) | L13: 477 | M13: ( | N13: 2 | O13: ) | P13: 880 | Q13: ( | R13: 2 | S13: )
B14: 大 井 | D14: 833 | E14: ( | F14: 9 | G14: ) | H14: 658 | I14: ( | J14: 1 | K14: ) | L14: 780 | M14: ( | N14: 10 | O14: ) | P14: 1438 | Q14: ( | R14: 11 | S14: )
B15: 大 島 | D15: 246 | E15: ( | F15: 0 | G15: ) | H15: 253 | I15: ( | J15: 0 | K15: ) | L15: 252 | M15: ( | N15: 0 | O15: ) | P15: 505 | Q15: ( | R15: 0 | S15: )
B16: 相 島 | D16: 56 | E16: ( | F16: 0 | G16: ) | H16: 42 | I16: ( | J16: 0 | K16: ) | L16: 57 | M16: ( | N16: 0 | O16: ) | P16: 99 | Q16: ( | R16: 0 | S16: )
B17: 櫃 島 | D17: 1 | E17: ( | F17: 0 | G17: ) | H17: 1 | I17: ( | J17: 0 | K17: ) | L17: 1 | M17: ( | N17: 0 | O17: ) | P17: 2 | Q17: ( | R17: 0 | S17: )
B18: 見 島 | D18: 388 | E18: ( | F18: 0 | G18: ) | H18: 312 | I18: ( | J18: 0 | K18: ) | L18: 241 | M18: ( | N18: 0 | O18: ) | P18: 553 | Q18: ( | R18: 0 | S18: )
B19: 小 計 | D19: 17335 | E19: ( | F19: 317 | G19: ) | H19: 14637 | I19: ( | J19: 167 | K19: ) | L19: 17055 | M19: ( | N19: 233 | O19: ) | P19: 31692 | Q19: ( | R19: 400 | S19: )
A20: 川 上 | B20: 川 上 | D20: 404 | E20: ( | F20: 36 | G20: ) | H20: 328 | I20: ( | J20: 40 | K20: ) | L20: 346 | M20: ( | N20: 15 | O20: ) | P20: 674 | Q20: ( | R20: 55 | S20: )
B21: 小 計 | D21: 404 | E21: ( | F21: 36 | G21: ) | H21: 328 | I21: ( | J21: 40 | K21: ) | L21: 346 | M21: ( | N21: 15 | O21: ) | P21: 674 | Q21: ( | R21: 55 | S21: )
A22: 田万川 | B22: 小 川 | D22: 396 | E22: ( | F22: 29 | G22: ) | H22: 319 | I22: ( | J22: 6 | K22: ) | L22: 364 | M22: ( | N22: 24 | O22: ) | P22: 683 | Q22: ( | R22: 30 | S22: )
B23: 江 崎 | D23: 701 | E23: ( | F23: 19 | G23: ) | H23: 636 | I23: ( | J23: 7 | K23: ) | L23: 720 | M23: ( | N23: 16 | O23: ) | P23: 1356 | Q23: ( | R23: 23 | S23: )
B24: 小 計 | D24: 1097 | E24: ( | F24: 48 | G24: ) | H24: 955 | I24: ( | J24: 13 | K24: ) | L24: 1084 | M24: ( | N24: 40 | O24: ) | P24: 2039 | Q24: ( | R24: 53 | S24: )
A25: むつみ | B25: 吉 部 | D25: 387 | E25: ( | F25: 0 | G25: ) | H25: 319 | I25: ( | J25: 1 | K25: ) | L25: 360 | M25: ( | N25: 0 | O25: ) | P25: 679 | Q25: ( | R25: 1 | S25: )
B26: 高 俣 | D26: 224 | E26: ( | F26: 0 | G26: ) | H26: 196 | I26: ( | J26: 0 | K26: ) | L26: 191 | M26: ( | N26: 0 | O26: ) | P26: 387 | Q26: ( | R26: 0 | S26: )
B27: 小 計 | D27: 611 | E27: ( | F27: 0 | G27: ) | H27: 515 | I27: ( | J27: 1 | K27: ) | L27: 551 | M27: ( | N27: 0 | O27: ) | P27: 1066 | Q27: ( | R27: 1 | S27: )
A28: 須 佐 | B28: 須 佐 | D28: 901 | E28: ( | F28: 12 | G28: ) | H28: 734 | I28: ( | J28: 10 | K28: ) | L28: 832 | M28: ( | N28: 4 | O28: ) | P28: 1566 | Q28: ( | R28: 14 | S28: )
B29: 弥 富 | D29: 205 | E29: ( | F29: 0 | G29: ) | H29: 175 | I29: ( | J29: 0 | K29: ) | L29: 200 | M29: ( | N29: 0 | O29: ) | P29: 375 | Q29: ( | R29: 0 | S29: )
B30: 小 計 | D30: 1106 | E30: ( | F30: 12 | G30: ) | H30: 909 | I30: ( | J30: 10 | K30: ) | L30: 1032 | M30: ( | N30: 4 | O30: ) | P30: 1941 | Q30: ( | R30: 14 | S30: )
A31: 旭 | B31: 明 木 | D31: 395 | E31: ( | F31: 0 | G31: ) | H31: 354 | I31: ( | J31: 0 | K31: ) | L31: 386 | M31: ( | N31: 1 | O31: ) | P31: 740 | Q31: ( | R31: 1 | S31: )
B32: 佐 々 並 | D32: 256 | E32: ( | F32: 0 | G32: ) | H32: 246 | I32: ( | J32: 0 | K32: ) | L32: 258 | M32: ( | N32: 0 | O32: ) | P32: 504 | Q32: ( | R32: 0 | S32: )
B33: 小 計 | D33: 651 | E33: ( | F33: 0 | G33: ) | H33: 600 | I33: ( | J33: 0 | K33: ) | L33: 644 | M33: ( | N33: 1 | O33: ) | P33: 1244 | Q33: ( | R33: 1 | S33: )
A34: 福 栄 | B34: 福 川 | D34: 353 | E34: ( | F34: 0 | G34: ) | H34: 302 | I34: ( | J34: 0 | K34: ) | L34: 344 | M34: ( | N34: 1 | O34: ) | P34: 646 | Q34: ( | R34: 1 | S34: )
B35: 紫 福 | D35: 299 | E35: ( | F35: 1 | G35: ) | H35: 274 | I35: ( | J35: 2 | K35: ) | L35: 309 | M35: ( | N35: 1 | O35: ) | P35: 583 | Q35: ( | R35: 3 | S35: )
B36: 小 計 | D36: 652 | E36: ( | F36: 1 | G36: ) | H36: 576 | I36: ( | J36: 2 | K36: ) | L36: 653 | M36: ( | N36: 2 | O36: ) | P36: 1229 | Q36: ( | R36: 4 | S36: )
A37: 合 計 | D37: 21856 | E37: ( | F37: 414 | G37: ) | H37: 18520 | I37: ( | J37: 233 | K37: ) | L37: 21365 | M37: ( | N37: 295 | O37: ) | P37: 39885 | Q37: ( | R37: 528 | S37: )
A38: ※ 「小畑」及び「越ヶ浜」として再掲した数値は椿東地区に、「木間」として再掲した数値は山田地区に、それぞれ含まれます。
A40: ※ 「住民基本台帳の一部を改正する法律」が平成２４年７月９日に施行されたことに伴い、外国人数が含まれるようになりました。

Sheet 年齢人口（7月末）
A1: （地域別）年齢３区分別人口と割合
L2: 令和８年７月末日現在
A3: 地 域 | D3: 人口 | E3: 3区分別人口 | I3: 3区分別人口の割合
E4: 0～14歳 | F4: 15～64歳 | G4: 65歳 以上 | I4: 0～14歳 | J4: 15～64歳 | K4: 65歳 以上
H5: 内75歳 以上 | L5: 内75歳 以上
A6: 萩 | B6: 川 内 | D6: 13360 | E6: 1317 | F6: 7012 | G6: 5031 | H6: 3066 | I6: 0.098577844 | J6: 0.5248503 | K6: 0.37657186 | L6: 0.22949102
B7: 椿 東 | D7: 9165 | E7: 676 | F7: 4472 | G7: 4017 | H7: 2384 | I7: 0.073758865 | J7: 0.48794326 | K7: 0.43829787 | L7: 0.26012002
C8: 再掲 小 畑 | D8: 1625 | E8: 99 | F8: 737 | G8: 789 | H8: 446 | I8: 0.060923077 | J8: 0.45353846 | K8: 0.48553846 | L8: 0.27446154
C9: 再掲 越ヶ浜 | D9: 1022 | E9: 22 | F9: 410 | G9: 590 | H9: 379 | I9: 0.021526419 | J9: 0.40117417 | K9: 0.57729941 | L9: 0.37084149
B10: 椿 | D10: 3549 | E10: 337 | F10: 1822 | G10: 1390 | H10: 799 | I10: 0.094956326 | J10: 0.51338405 | K10: 0.39165962 | L10: 0.22513384
B11: 山 田 | D11: 2141 | E11: 105 | F11: 944 | G11: 1092 | H11: 682 | I11: 0.049042504 | J11: 0.44091546 | K11: 0.51004204 | L11: 0.31854274
C12: 再掲 木 間 | D12: 85 | E12: 0 | F12: 23 | G12: 62 | H12: 44 | I12: 0 | J12: 0.27058824 | K12: 0.72941176 | L12: 0.51764706
B13: 三 見 | D13: 880 | E13: 19 | F13: 344 | G13: 517 | H13: 335 | I13: 0.021590909 | J13: 0.39090909 | K13: 0.5875 | L13: 0.38068182
B14: 大 井 | D14: 1438 | E14: 30 | F14: 499 | G14: 909 | H14: 584 | I14: 0.020862309 | J14: 0.34700974 | K14: 0.63212796 | L14: 0.40611961
B15: 大 島 | D15: 505 | E15: 24 | F15: 232 | G15: 249 | H15: 124 | I15: 0.047524752 | J15: 0.45940594 | K15: 0.49306931 | L15: 0.24554455
B16: 相 島 | D16: 99 | E16: 0 | F16: 18 | G16: 81 | H16: 51 | I16: 0 | J16: 0.18181818 | K16: 0.81818182 | L16: 0.51515152
B17: 櫃 島 | D17: 2 | E17: 0 | F17: 0 | G17: 2 | H17: 2 | I17: 0 | J17: 0 | K17: 1 | L17: 1
B18: 見 島 | D18: 553 | E18: 11 | F18: 215 | G18: 327 | H18: 201 | I18: 0.019891501 | J18: 0.38878843 | K18: 0.59132007 | L18: 0.36347197
B19: 小 計 | D19: 31692 | E19: 2519 | F19: 15558 | G19: 13615 | H19: 8228 | I19: 0.079483781 | J19: 0.49091253 | K19: 0.42960369 | L19: 0.25962388
A20: 川上 | B20: 川 上 | D20: 674 | E20: 29 | F20: 260 | G20: 385 | H20: 253 | I20: 0.043026706 | J20: 0.38575668 | K20: 0.57121662 | L20: 0.37537092
B21: 小 計 | D21: 674 | E21: 29 | F21: 260 | G21: 385 | H21: 253 | I21: 0.043026706 | J21: 0.38575668 | K21: 0.57121662 | L21: 0.37537092
A22: 田万川 | B22: 小 川 | D22: 683 | E22: 17 | F22: 282 | G22: 384 | H22: 235 | I22: 0.02489019 | J22: 0.41288433 | K22: 0.56222548 | L22: 0.34407028
B23: 江 崎 | D23: 1356 | E23: 69 | F23: 539 | G23: 748 | H23: 488 | I23: 0.050884956 | J23: 0.39749263 | K23: 0.55162242 | L23: 0.35988201
B24: 小 計 | D24: 2039 | E24: 86 | F24: 821 | G24: 1132 | H24: 723 | I24: 0.042177538 | J24: 0.40264836 | K24: 0.5551741 | L24: 0.35458558
A25: むつみ | B25: 吉 部 | D25: 679 | E25: 32 | F25: 226 | G25: 421 | H25: 273 | I25: 0.04712813 | J25: 0.33284242 | K25: 0.62002946 | L25: 0.40206186
B26: 高 俣 | D26: 387 | E26: 7 | F26: 135 | G26: 245 | H26: 156 | I26: 0.018087855 | J26: 0.34883721 | K26: 0.63307494 | L26: 0.40310078
B27: 小 計 | D27: 1066 | E27: 39 | F27: 361 | G27: 666 | H27: 429 | I27: 0.036585366 | J27: 0.33864916 | K27: 0.62476548 | L27: 0.40243902
A28: 須 佐 | B28: 須 佐 | D28: 1566 | E28: 75 | F28: 625 | G28: 866 | H28: 569 | I28: 0.04789272 | J28: 0.399106 | K28: 0.55300128 | L28: 0.3633461
B29: 弥 富 | D29: 375 | E29: 13 | F29: 103 | G29: 259 | H29: 162 | I29: 0.034666667 | J29: 0.27466667 | K29: 0.69066667 | L29: 0.432
B30: 小 計 | D30: 1941 | E30: 88 | F30: 728 | G30: 1125 | H30: 731 | I30: 0.045337455 | J30: 0.3750644 | K30: 0.57959815 | L30: 0.37660999
A31: 旭 | B31: 明 木 | D31: 740 | E31: 25 | F31: 285 | G31: 430 | H31: 270 | I31: 0.033783784 | J31: 0.38513514 | K31: 0.58108108 | L31: 0.36486486
B32: 佐 々 並 | D32: 504 | E32: 25 | F32: 179 | G32: 300 | H32: 193 | I32: 0.049603175 | J32: 0.35515873 | K32: 0.5952381 | L32: 0.38293651
B33: 小 計 | D33: 1244 | E33: 50 | F33: 464 | G33: 730 | H33: 463 | I33: 0.040192926 | J33: 0.37299035 | K33: 0.58681672 | L33: 0.3721865
A34: 福 栄 | B34: 福 川 | D34: 646 | E34: 22 | F34: 222 | G34: 402 | H34: 262 | I34: 0.034055728 | J34: 0.34365325 | K34: 0.62229102 | L34: 0.40557276
B35: 紫 福 | D35: 583 | E35: 24 | F35: 206 | G35: 353 | H35: 202 | I35: 0.041166381 | J35: 0.35334477 | K35: 0.60548885 | L35: 0.3464837
B36: 小 計 | D36: 1229 | E36: 46 | F36: 428 | G36: 755 | H36: 464 | I36: 0.037428804 | J36: 0.34825061 | K36: 0.61432059 | L36: 0.37754272
A37: 合 計 | D37: 39885 | E37: 2857 | F37: 18620 | G37: 18408 | H37: 11291 | I37: 0.071630939 | J37: 0.46684217 | K37: 0.46152689 | L37: 0.28308888
A39: ※ 割合は、小数点第２位を四捨五入しているため、合計が100％にならない場合があります。
A40: ※ 「住民基本台帳の一部を改正する法律」が平成２４年７月９日に施行されたことに伴い、外国人数が含まれるようになりました。

Sheet 男女別人口（7月末）
A1: 地域別（年齢）３区分別人口
Q2: 令和８年７月末日現在
A3: 地 域 | D3: 人口 | E3: 年齢３区分別人口
E4: 男 | I4: 女 | N4: 全体
E5: 0～14歳 | F5: 15～64歳 | G5: 65歳 以上 | I5: 0～14歳 | J5: 15～64歳 | L5: 65歳 以上 | N5: 0～14歳 | O5: 15～64歳 | P5: 65歳 以上
H6: 内75歳 以上 | K6: 20～39歳 | M6: 内75歳 以上 | Q6: 内75歳 以上
A7: 萩 | B7: 川 内 | D7: 13360 | E7: 679 | F7: 3343 | G7: 2067 | H7: 1136 | I7: 638 | J7: 3669 | K7: 1108 | L7: 2964 | M7: 1930 | N7: 1317 | O7: 7012 | P7: 5031 | Q7: 3066
B8: 椿 東 | D8: 1005 | E8: 327 | F8: 2338 | G8: 1632 | H8: 887 | I8: 349 | J8: 2134 | K8: 496 | L8: 2385 | M8: 1497 | N8: 676 | O8: 4472 | P8: 4017 | Q8: 2384
C9: 再掲 小 畑 | D9: 624 | E9: 52 | F9: 413 | G9: 314 | H9: 166 | I9: 47 | J9: 324 | K9: 88 | L9: 475 | M9: 280 | N9: 99 | O9: 737 | P9: 789 | Q9: 446
C10: 再掲 越ヶ浜 | D10: 1022 | E10: 15 | F10: 223 | G10: 247 | H10: 137 | I10: 7 | J10: 187 | K10: 37 | L10: 343 | M10: 242 | N10: 22 | O10: 410 | P10: 590 | Q10: 379
B11: 椿 | D11: 3549 | E11: 172 | F11: 886 | G11: 553 | H11: 286 | I11: 165 | J11: 936 | K11: 257 | L11: 837 | M11: 513 | N11: 337 | O11: 1822 | P11: 1390 | Q11: 799
B12: 山 田 | D12: 59 | E12: 51 | F12: 480 | G12: 440 | H12: 254 | I12: 54 | J12: 464 | K12: 102 | L12: 652 | M12: 428 | N12: 105 | O12: 944 | P12: 1092 | Q12: 682
C13: 再掲 木 間 | D13: 85 | E13: 0 | F13: 13 | G13: 26 | H13: 20 | I13: 0 | J13: 10 | K13: 2 | L13: 36 | M13: 24 | N13: 0 | O13: 23 | P13: 62 | Q13: 44
B14: 三 見 | D14: 880 | E14: 9 | F14: 180 | G14: 214 | H14: 128 | I14: 10 | J14: 164 | K14: 28 | L14: 303 | M14: 207 | N14: 19 | O14: 344 | P14: 517 | Q14: 335
B15: 大 井 | D15: 1438 | E15: 13 | F15: 259 | G15: 386 | H15: 225 | I15: 17 | J15: 240 | K15: 45 | L15: 523 | M15: 359 | N15: 30 | O15: 499 | P15: 909 | Q15: 584
B16: 大 島 | D16: 505 | E16: 13 | F16: 127 | G16: 113 | H16: 49 | I16: 11 | J16: 105 | K16: 30 | L16: 136 | M16: 75 | N16: 24 | O16: 232 | P16: 249 | Q16: 124
B17: 相 島 | E17: 0 | F17: 8 | G17: 34 | H17: 20 | I17: 0 | J17: 10 | K17: 0 | L17: 47 | M17: 31 | N17: 0 | O17: 18 | P17: 81 | Q17: 51
B18: 櫃 島 | D18: 2 | E18: 0 | F18: 0 | G18: 1 | H18: 1 | I18: 0 | J18: 0 | K18: 0 | L18: 1 | M18: 1 | N18: 0 | O18: 0 | P18: 2 | Q18: 2
B19: 見 島 | D19: 553 | E19: 6 | F19: 168 | G19: 138 | H19: 83 | I19: 5 | J19: 47 | K19: 14 | L19: 189 | M19: 118 | N19: 11 | O19: 215 | P19: 327 | Q19: 201
B20: 小 計 | D20: 31692 | E20: 1270 | F20: 7789 | G20: 5578 | H20: 3069 | I20: 1249 | J20: 7769 | K20: 2080 | L20: 8037 | M20: 5159 | N20: 2519 | O20: 15558 | P20: 13615 | Q20: 8228
A21: 川上 | B21: 川 上 | D21: 674 | E21: 14 | F21: 143 | G21: 171 | H21: 100 | I21: 15 | J21: 117 | K21: 28 | L21: 214 | M21: 153 | N21: 29 | O21: 260 | P21: 385 | Q21: 253
B22: 小 計 | D22: 674 | E22: 14 | F22: 143 | G22: 171 | H22: 100 | I22: 15 | J22: 117 | K22: 28 | L22: 214 | M22: 153 | N22: 29 | O22: 260 | P22: 385 | Q22: 253
A23: 田万川 | B23: 小 川 | D23: 683 | E23: 6 | F23: 139 | G23: 174 | H23: 96 | I23: 11 | J23: 143 | K23: 42 | L23: 210 | M23: 139 | N23: 17 | O23: 282 | P23: 384 | Q23: 235
B24: 江 崎 | D24: 1356 | E24: 35 | F24: 272 | G24: 329 | H24: 200 | I24: 34 | J24: 267 | K24: 57 | L24: 419 | M24: 288 | N24: 69 | O24: 539 | P24: 748 | Q24: 488
B25: 小 計 | D25: 2039 | E25: 41 | F25: 411 | G25: 503 | H25: 296 | I25: 45 | J25: 410 | K25: 99 | L25: 629 | M25: 427 | N25: 86 | O25: 821 | P25: 1132 | Q25: 723
A26: むつみ | B26: 吉 部 | D26: 679 | E26: 18 | F26: 116 | G26: 185 | H26: 107 | I26: 14 | J26: 110 | K26: 21 | L26: 236 | M26: 166 | N26: 32 | O26: 226 | P26: 421 | Q26: 273
B27: 高 俣 | D27: 387 | E27: 4 | F27: 81 | G27: 111 | H27: 65 | I27: 3 | J27: 54 | K27: 9 | L27: 134 | M27: 91 | N27: 7 | O27: 135 | P27: 245 | Q27: 156
B28: 小 計 | D28: 1066 | E28: 22 | F28: 197 | G28: 296 | H28: 172 | I28: 17 | J28: 164 | K28: 30 | L28: 370 | M28: 257 | N28: 39 | O28: 361 | P28: 666 | Q28: 429
A29: 須 佐 | B29: 須 佐 | D29: 1566 | E29: 36 | F29: 326 | G29: 372 | H29: 224 | I29: 39 | J29: 299 | K29: 52 | L29: 494 | M29: 345 | N29: 75 | O29: 625 | P29: 866 | Q29: 569
B30: 弥 富 | D30: 375 | E30: 6 | F30: 51 | G30: 118 | H30: 69 | I30: 7 | J30: 52 | K30: 11 | L30: 141 | M30: 93 | N30: 13 | O30: 103 | P30: 259 | Q30: 162
B31: 小 計 | D31: 1941 | E31: 42 | F31: 377 | G31: 490 | H31: 293 | I31: 46 | J31: 351 | K31: 63 | L31: 635 | M31: 438 | N31: 88 | O31: 728 | P31: 1125 | Q31: 731
A32: 旭 | B32: 明 木 | D32: 740 | E32: 14 | F32: 156 | G32: 184 | H32: 101 | I32: 11 | J32: 129 | K32: 21 | L32: 246 | M32: 169 | N32: 25 | O32: 285 | P32: 430 | Q32: 270
B33: 佐 々 並 | D33: 504 | E33: 14 | F33: 94 | G33: 138 | H33: 83 | I33: 11 | J33: 85 | K33: 12 | L33: 162 | M33: 110 | N33: 25 | O33: 179 | P33: 300 | Q33: 193
B34: 小 計 | D34: 1244 | E34: 28 | F34: 250 | G34: 322 | H34: 184 | I34: 22 | J34: 214 | K34: 33 | L34: 408 | M34: 279 | N34: 50 | O34: 464 | P34: 730 | Q34: 463
A35: 福 栄 | B35: 福 川 | D35: 646 | E35: 12 | F35: 121 | G35: 169 | H35: 103 | I35: 10 | J35: 101 | K35: 13 | L35: 233 | M35: 159 | N35: 22 | O35: 222 | P35: 402 | Q35: 262
B36: 紫 福 | D36: 583 | E36: 12 | F36: 104 | G36: 158 | H36: 81 | I36: 12 | J36: 102 | K36: 20 | L36: 195 | M36: 121 | N36: 24 | O36: 206 | P36: 353 | Q36: 202
B37: 小 計 | D37: 1229 | E37: 24 | F37: 225 | G37: 327 | H37: 184 | I37: 22 | J37: 203 | K37: 33 | L37: 428 | M37: 280 | N37: 46 | O37: 428 | P37: 755 | Q37: 464
A38: 合 計 | D38: 39885 | E38: 1441 | F38: 9392 | G38: 7687 | H38: 4298 | I38: 1416 | J38: 9228 | K38: 2366 | L38: 10721 | M38: 6993 | N38: 2857 | O38: 18620 | P38: 18408 | Q38: 11291
A39: ※ 「住民基本台帳の一部を改正する法律」が平成２４年７月９日に施行されたことに伴い、外国人数が含まれるようになりました。

Sheet 人口と世帯数(8月末）
A1: 地域別人口 と 世帯数
R2: 令和８年８月末日現在
H3: 住民基本台帳より、( )内は外国人のうち数
A4: 地 域 | D4: 世 帯 数 | H4: 人 口
H5: 男 | L5: 女 | P5: 計
A6: 萩 | B6: 川 内 | D6: 7198 | E6: ( | F6: 165 | G6: ) | H6: 6077 | I6: ( | J6: 56 | K6: ) | L6: 7270 | M6: ( | N6: 153 | O6: ) | P6: 13347 | Q6: ( | R6: 209 | S6: )
B7: 椿 東 | D7: 5030 | E7: ( | F7: 115 | G7: ) | H7: 4287 | I7: ( | J7: 92 | K7: ) | L7: 4870 | M7: ( | N7: 48 | O7: ) | P7: 9157 | Q7: ( | R7: 140 | S7: )
C8: 再掲 小 畑 | D8: 957 | E8: ( | F8: 13 | G8: ) | H8: 779 | I8: ( | J8: 4 | K8: ) | L8: 849 | M8: ( | N8: 13 | O8: ) | P8: 1628 | Q8: ( | R8: 17 | S8: )
C9: 再掲 越ヶ浜 | D9: 588 | E9: ( | F9: 20 | G9: ) | H9: 483 | I9: ( | J9: 6 | K9: ) | L9: 534 | M9: ( | N9: 16 | O9: ) | P9: 1017 | Q9: ( | R9: 22 | S9: )
B10: 椿 | D10: 1839 | E10: ( | F10: 21 | G10: ) | H10: 1606 | I10: ( | J10: 11 | K10: ) | L10: 1933 | M10: ( | N10: 15 | O10: ) | P10: 3539 | Q10: ( | R10: 26 | S10: )
B11: 山 田 | D11: 1224 | E11: ( | F11: 10 | G11: ) | H11: 966 | I11: ( | J11: 9 | K11: ) | L11: 1167 | M11: ( | N11: 6 | O11: ) | P11: 2133 | Q11: ( | R11: 15 | S11: )
C12: 再掲 木 間 | D12: 54 | E12: ( | F12: 0 | G12: ) | H12: 39 | I12: ( | J12: 0 | K12: ) | L12: 46 | M12: ( | N12: 0 | O12: ) | P12: 85 | Q12: ( | R12: 0 | S12: )
B13: 三 見 | D13: 504 | E13: ( | F13: 0 | G13: ) | H13: 401 | I13: ( | J13: 0 | K13: ) | L13: 475 | M13: ( | N13: 2 | O13: ) | P13: 876 | Q13: ( | R13: 2 | S13: )
B14: 大 井 | D14: 827 | E14: ( | F14: 9 | G14: ) | H14: 654 | I14: ( | J14: 1 | K14: ) | L14: 774 | M14: ( | N14: 10 | O14: ) | P14: 1428 | Q14: ( | R14: 11 | S14: )
B15: 大 島 | D15: 245 | E15: ( | F15: 0 | G15: ) | H15: 253 | I15: ( | J15: 0 | K15: ) | L15: 250 | M15: ( | N15: 0 | O15: ) | P15: 503 | Q15: ( | R15: 0 | S15: )
B16: 相 島 | D16: 56 | E16: ( | F16: 0 | G16: ) | H16: 42 | I16: ( | J16: 0 | K16: ) | L16: 57 | M16: ( | N16: 0 | O16: ) | P16: 99 | Q16: ( | R16: 0 | S16: )
B17: 櫃 島 | D17: 1 | E17: ( | F17: 0 | G17: ) | H17: 1 | I17: ( | J17: 0 | K17: ) | L17: 1 | M17: ( | N17: 0 | O17: ) | P17: 2 | Q17: ( | R17: 0 | S17: )
B18: 見 島 | D18: 388 | E18: ( | F18: 0 | G18: ) | H18: 314 | I18: ( | J18: 0 | K18: ) | L18: 241 | M18: ( | N18: 0 | O18: ) | P18: 555 | Q18: ( | R18: 0 | S18: )
B19: 小 計 | D19: 17312 | E19: ( | F19: 320 | G19: ) | H19: 14601 | I19: ( | J19: 169 | K19: ) | L19: 17038 | M19: ( | N19: 234 | O19: ) | P19: 31639 | Q19: ( | R19: 403 | S19: )
A20: 川 上 | B20: 川 上 | D20: 408 | E20: ( | F20: 40 | G20: ) | H20: 333 | I20: ( | J20: 44 | K20: ) | L20: 344 | M20: ( | N20: 15 | O20: ) | P20: 677 | Q20: ( | R20: 59 | S20: )
B21: 小 計 | D21: 408 | E21: ( | F21: 40 | G21: ) | H21: 333 | I21: ( | J21: 44 | K21: ) | L21: 344 | M21: ( | N21: 15 | O21: ) | P21: 677 | Q21: ( | R21: 59 | S21: )
A22: 田万川 | B22: 小 川 | D22: 395 | E22: ( | F22: 28 | G22: ) | H22: 318 | I22: ( | J22: 6 | K22: ) | L22: 361 | M22: ( | N22: 23 | O22: ) | P22: 679 | Q22: ( | R22: 29 | S22: )
B23: 江 崎 | D23: 699 | E23: ( | F23: 19 | G23: ) | H23: 633 | I23: ( | J23: 6 | K23: ) | L23: 715 | M23: ( | N23: 16 | O23: ) | P23: 1348 | Q23: ( | R23: 22 | S23: )
B24: 小 計 | D24: 1094 | E24: ( | F24: 47 | G24: ) | H24: 951 | I24: ( | J24: 12 | K24: ) | L24: 1076 | M24: ( | N24: 39 | O24: ) | P24: 2027 | Q24: ( | R24: 51 | S24: )
A25: むつみ | B25: 吉 部 | D25: 385 | E25: ( | F25: 0 | G25: ) | H25: 319 | I25: ( | J25: 1 | K25: ) | L25: 357 | M25: ( | N25: 0 | O25: ) | P25: 676 | Q25: ( | R25: 1 | S25: )
B26: 高 俣 | D26: 224 | E26: ( | F26: 0 | G26: ) | H26: 195 | I26: ( | J26: 0 | K26: ) | L26: 191 | M26: ( | N26: 0 | O26: ) | P26: 386 | Q26: ( | R26: 0 | S26: )
B27: 小 計 | D27: 609 | E27: ( | F27: 0 | G27: ) | H27: 514 | I27: ( | J27: 1 | K27: ) | L27: 548 | M27: ( | N27: 0 | O27: ) | P27: 1062 | Q27: ( | R27: 1 | S27: )
A28: 須 佐 | B28: 須 佐 | D28: 896 | E28: ( | F28: 11 | G28: ) | H28: 733 | I28: ( | J28: 10 | K28: ) | L28: 822 | M28: ( | N28: 3 | O28: ) | P28: 1555 | Q28: ( | R28: 13 | S28: )
B29: 弥 富 | D29: 205 | E29: ( | F29: 0 | G29: ) | H29: 175 | I29: ( | J29: 0 | K29: ) | L29: 200 | M29: ( | N29: 0 | O29: ) | P29: 375 | Q29: ( | R29: 0 | S29: )
B30: 小 計 | D30: 1101 | E30: ( | F30: 11 | G30: ) | H30: 908 | I30: ( | J30: 10 | K30: ) | L30: 1022 | M30: ( | N30: 3 | O30: ) | P30: 1930 | Q30: ( | R30: 13 | S30: )
A31: 旭 | B31: 明 木 | D31: 393 | E31: ( | F31: 0 | G31: ) | H31: 353 | I31: ( | J31: 0 | K31: ) | L31: 384 | M31: ( | N31: 1 | O31: ) | P31: 737 | Q31: ( | R31: 1 | S31: )
B32: 佐 々 並 | D32: 254 | E32: ( | F32: 0 | G32: ) | H32: 244 | I32: ( | J32: 0 | K32: ) | L32: 257 | M32: ( | N32: 0 | O32: ) | P32: 501 | Q32: ( | R32: 0 | S32: )
B33: 小 計 | D33: 647 | E33: ( | F33: 0 | G33: ) | H33: 597 | I33: ( | J33: 0 | K33: ) | L33: 641 | M33: ( | N33: 1 | O33: ) | P33: 1238 | Q33: ( | R33: 1 | S33: )
A34: 福 栄 | B34: 福 川 | D34: 353 | E34: ( | F34: 0 | G34: ) | H34: 300 | I34: ( | J34: 0 | K34: ) | L34: 345 | M34: ( | N34: 1 | O34: ) | P34: 645 | Q34: ( | R34: 1 | S34: )
B35: 紫 福 | D35: 300 | E35: ( | F35: 1 | G35: ) | H35: 275 | I35: ( | J35: 2 | K35: ) | L35: 308 | M35: ( | N35: 1 | O35: ) | P35: 583 | Q35: ( | R35: 3 | S35: )
B36: 小 計 | D36: 653 | E36: ( | F36: 1 | G36: ) | H36: 575 | I36: ( | J36: 2 | K36: ) | L36: 653 | M36: ( | N36: 2 | O36: ) | P36: 1228 | Q36: ( | R36: 4 | S36: )
A37: 合 計 | D37: 21824 | E37: ( | F37: 419 | G37: ) | H37: 18479 | I37: ( | J37: 238 | K37: ) | L37: 21322 | M37: ( | N37: 294 | O37: ) | P37: 39801 | Q37: ( | R37: 532 | S37: )
A38: ※ 「小畑」及び「越ヶ浜」として再掲した数値は椿東地区に、「木間」として再掲した数値は山田地区に、それぞれ含まれます。
A40: ※ 「住民基本台帳の一部を改正する法律」が平成２４年７月９日に施行されたことに伴い、外国人数が含まれるようになりました。

Sheet 年齢人口（８月末）
A1: （地域別）年齢３区分別人口と割合
L2: ='人口と世帯数(8月末）'!R2 -> 令和８年８月末日現在
A3: 地 域 | D3: 人口 | E3: 3区分別人口 | I3: 3区分別人口の割合
E4: 0～14歳 | F4: 15～64歳 | G4: 65歳 以上 | I4: 0～14歳 | J4: 15～64歳 | K4: 65歳 以上
H5: 内75歳 以上 | L5: 内75歳 以上
A6: 萩 | B6: 川 内 | D6: ='人口と世帯数(8月末）'!P6 -> 13347 | E6: =SUM('[1]集計表（リンク）'!J4:J110) -> 1312 | F6: =SUM('[1]集計表（リンク）'!K4:K110) -> 7012 | G6: =SUM('[1]集計表（リンク）'!L4:L110) -> 5023 | H6: =SUM('[1]集計表（リンク）'!M4:M110) -> 3064 | I6: =E6/D6 -> 0.098299243 | J6: =F6/D6 -> 0.5253615 | K6: =G6/D6 -> 0.37633925 | L6: =H6/D6 -> 0.2295647
B7: 椿 東 | D7: ='人口と世帯数(8月末）'!P7 -> 9157 | E7: =SUM('[1]集計表（リンク）'!J111:J167) -> 672 | F7: =SUM('[1]集計表（リンク）'!K111:K167) -> 4473 | G7: =SUM('[1]集計表（リンク）'!L111:L167) -> 4012 | H7: =SUM('[1]集計表（リンク）'!M111:M167) -> 2382 | I7: =E7/D7 -> 0.07338648 | J7: =F7/D7 -> 0.48847876 | K7: =G7/D7 -> 0.43813476 | L7: =H7/D7 -> 0.26012886
C8: 再掲 小 畑 | D8: ='人口と世帯数(8月末）'!P8 -> 1628 | E8: =SUM('[1]集計表（リンク）'!J144:J154) -> 99 | F8: =SUM('[1]集計表（リンク）'!K144:K154) -> 739 | G8: =SUM('[1]集計表（リンク）'!L144:L154) -> 790 | H8: =SUM('[1]集計表（リンク）'!M144:M154) -> 447 | I8: =E8/D8 -> 0.060810811 | J8: =F8/D8 -> 0.4539312 | K8: =G8/D8 -> 0.48525799 | L8: =H8/D8 -> 0.27457002
C9: 再掲 越ヶ浜 | D9: ='人口と世帯数(8月末）'!P9 -> 1017 | E9: =SUM('[1]集計表（リンク）'!J155:J167) -> 21 | F9: =SUM('[1]集計表（リンク）'!K155:K167) -> 407 | G9: =SUM('[1]集計表（リンク）'!L155:L167) -> 589 | H9: =SUM('[1]集計表（リンク）'!M155:M167) -> 377 | I9: =E9/D9 -> 0.020648968 | J9: =F9/D9 -> 0.40019666 | K9: =G9/D9 -> 0.57915438 | L9: =H9/D9 -> 0.37069813
B10: 椿 | D10: ='人口と世帯数(8月末）'!P10 -> 3539 | E10: =SUM('[1]集計表（リンク）'!J168:J181) -> 338 | F10: =SUM('[1]集計表（リンク）'!K168:K181) -> 1813 | G10: =SUM('[1]集計表（リンク）'!L168:L181) -> 1388 | H10: =SUM('[1]集計表（リンク）'!M168:M181) -> 801 | I10: =E10/D10 -> 0.095507205 | J10: =F10/D10 -> 0.51229161 | K10: =G10/D10 -> 0.39220119 | L10: =H10/D10 -> 0.22633512
B11: 山 田 | D11: ='人口と世帯数(8月末）'!P11 -> 2133 | E11: =SUM('[1]集計表（リンク）'!J182:J201) -> 107 | F11: =SUM('[1]集計表（リンク）'!K182:K201) -> 938 | G11: =SUM('[1]集計表（リンク）'!L182:L201) -> 1088 | H11: =SUM('[1]集計表（リンク）'!M182:M201) -> 679 | I11: =E11/D11 -> 0.050164088 | J11: =F11/D11 -> 0.43975621 | K11: =G11/D11 -> 0.5100797 | L11: =H11/D11 -> 0.31833099
C12: 再掲 木 間 | D12: ='人口と世帯数(8月末）'!P12 -> 85 | E12: =SUM('[1]集計表（リンク）'!J182:J184) -> 0 | F12: =SUM('[1]集計表（リンク）'!K182:K184) -> 23 | G12: =SUM('[1]集計表（リンク）'!L182:L184) -> 62 | H12: =SUM('[1]集計表（リンク）'!M182:M184) -> 44 | I12: =E12/D12 -> 0 | J12: =F12/D12 -> 0.27058824 | K12: =G12/D12 -> 0.72941176 | L12: =H12/D12 -> 0.51764706
B13: 三 見 | D13: ='人口と世帯数(8月末）'!P13 -> 876 | E13: =SUM('[1]集計表（リンク）'!J202:J218) -> 19 | F13: =SUM('[1]集計表（リンク）'!K202:K218) -> 340 | G13: =SUM('[1]集計表（リンク）'!L202:L218) -> 517 | H13: =SUM('[1]集計表（リンク）'!M202:M218) -> 337 | I13: =E13/D13 -> 0.021689498 | J13: =F13/D13 -> 0.38812785 | K13: =G13/D13 -> 0.59018265 | L13: =H13/D13 -> 0.3847032
B14: 大 井 | D14: ='人口と世帯数(8月末）'!P14 -> 1428 | E14: =SUM('[1]集計表（リンク）'!J219:J239) -> 30 | F14: =SUM('[1]集計表（リンク）'!K219:K239) -> 496 | G14: =SUM('[1]集計表（リンク）'!L219:L239) -> 902 | H14: =SUM('[1]集計表（リンク）'!M219:M239) -> 583 | I14: =E14/D14 -> 0.021008403 | J14: =F14/D14 -> 0.34733894 | K14: =G14/D14 -> 0.63165266 | L14: =H14/D14 -> 0.40826331
B15: 大 島 | D15: ='人口と世帯数(8月末）'!P15 -> 503 | E15: =SUM('[1]集計表（リンク）'!J240:J249) -> 24 | F15: =SUM('[1]集計表（リンク）'!K240:K249) -> 230 | G15: =SUM('[1]集計表（リンク）'!L240:L249) -> 249 | H15: =SUM('[1]集計表（リンク）'!M240:M249) -> 125 | I15: =E15/D15 -> 0.047713718 | J15: =F15/D15 -> 0.45725646 | K15: =G15/D15 -> 0.49502982 | L15: =H15/D15 -> 0.24850895
B16: 相 島 | D16: ='人口と世帯数(8月末）'!P16 -> 99 | E16: =SUM('[1]集計表（リンク）'!J250:J252) -> 0 | F16: =SUM('[1]集計表（リンク）'!K250:K252) -> 18 | G16: =SUM('[1]集計表（リンク）'!L250:L252) -> 81 | H16: =SUM('[1]集計表（リンク）'!M250:M252) -> 51 | I16: =E16/D16 -> 0 | J16: =F16/D16 -> 0.18181818 | K16: =G16/D16 -> 0.81818182 | L16: =H16/D16 -> 0.51515152
B17: 櫃 島 | D17: ='人口と世帯数(8月末）'!P17 -> 2 | E17: =SUM('[1]集計表（リンク）'!J253) -> 0 | F17: =SUM('[1]集計表（リンク）'!K253) -> 0 | G17: =SUM('[1]集計表（リンク）'!L253) -> 2 | H17: =SUM('[1]集計表（リンク）'!M253) -> 2 | I17: =E17/D17 -> 0 | J17: =F17/D17 -> 0 | K17: =G17/D17 -> 1 | L17: =H17/D17 -> 1
B18: 見 島 | D18: ='人口と世帯数(8月末）'!P18 -> 555 | E18: =SUM('[1]集計表（リンク）'!J254:J265) -> 13 | F18: =SUM('[1]集計表（リンク）'!K254:K265) -> 216 | G18: =SUM('[1]集計表（リンク）'!L254:L265) -> 326 | H18: =SUM('[1]集計表（リンク）'!M254:M265) -> 201 | I18: =E18/D18 -> 0.023423423 | J18: =F18/D18 -> 0.38918919 | K18: =G18/D18 -> 0.58738739 | L18: =H18/D18 -> 0.36216216
B19: 小 計 | D19: ='人口と世帯数(8月末）'!P19 -> 31639 | E19: =E6+E7+E10+E11+E13+E14+E15+E16+E17+E18 -> 2515 | F19: =F6+F7+F10+F11+F13+F14+F15+F16+F17+F18 -> 15536 | G19: =G6+G7+G10+G11+G13+G14+G15+G16+G17+G18 -> 13588 | H19: =H6+H7+H10+H11+H13+H14+H15+H16+H17+H18 -> 8225 | I19: =E19/D19 -> 0.079490502 | J19: =F19/D19 -> 0.49103954 | K19: =G19/D19 -> 0.42946996 | L19: =H19/D19 -> 0.25996397
A20: 川上 | B20: 川 上 | D20: ='人口と世帯数(8月末）'!P20 -> 677 | E20: =SUM('[1]集計表（リンク）'!J266:J280) -> 29 | F20: =SUM('[1]集計表（リンク）'!K266:K280) -> 263 | G20: =SUM('[1]集計表（リンク）'!L266:L280) -> 385 | H20: =SUM('[1]集計表（リンク）'!M266:M280) -> 256 | I20: =E20/D20 -> 0.042836041 | J20: =F20/D20 -> 0.38847858 | K20: =G20/D20 -> 0.56868538 | L20: =H20/D20 -> 0.37813885
B21: 小 計 | D21: ='人口と世帯数(8月末）'!P21 -> 677 | E21: =E20 -> 29 | F21: =F20 -> 263 | G21: =G20 -> 385 | H21: =H20 -> 256 | I21: =E21/D21 -> 0.042836041 | J21: =F21/D21 -> 0.38847858 | K21: =G21/D21 -> 0.56868538 | L21: =H21/D21 -> 0.37813885
A22: 田万川 | B22: 小 川 | D22: ='人口と世帯数(8月末）'!P22 -> 679 | E22: =SUM('[1]集計表（リンク）'!J281:J305) -> 17 | F22: =SUM('[1]集計表（リンク）'!K281:K305) -> 280 | G22: =SUM('[1]集計表（リンク）'!L281:L305) -> 382 | H22: =SUM('[1]集計表（リンク）'!M281:M305) -> 236 | I22: =E22/D22 -> 0.025036819 | J22: =F22/D22 -> 0.41237113 | K22: =G22/D22 -> 0.56259205 | L22: =H22/D22 -> 0.34756996
B23: 江 崎 | D23: ='人口と世帯数(8月末）'!P23 -> 1348 | E23: =SUM('[1]集計表（リンク）'!J306:J334) -> 68 | F23: =SUM('[1]集計表（リンク）'!K306:K334) -> 539 | G23: =SUM('[1]集計表（リンク）'!L306:L334) -> 741 | H23: =SUM('[1]集計表（リンク）'!M306:M334) -> 483 | I23: =E23/D23 -> 0.050445104 | J23: =F23/D23 -> 0.39985163 | K23: =G23/D23 -> 0.54970326 | L23: =H23/D23 -> 0.35830861
B24: 小 計 | D24: ='人口と世帯数(8月末）'!P24 -> 2027 | E24: =SUM(E22:E23) -> 85 | F24: =SUM(F22:F23) -> 819 | G24: =SUM(G22:G23) -> 1123 | H24: =SUM(H22:H23) -> 719 | I24: =E24/D24 -> 0.041933892 | J24: =F24/D24 -> 0.40404539 | K24: =G24/D24 -> 0.55402072 | L24: =H24/D24 -> 0.3547114
A25: むつみ | B25: 吉 部 | D25: ='人口と世帯数(8月末）'!P25 -> 676 | E25: =SUM('[1]集計表（リンク）'!J335:J367) -> 32 | F25: =SUM('[1]集計表（リンク）'!K335:K367) -> 225 | G25: =SUM('[1]集計表（リンク）'!L335:L367) -> 419 | H25: =SUM('[1]集計表（リンク）'!M335:M367) -> 272 | I25: =E25/D25 -> 0.047337278 | J25: =F25/D25 -> 0.33284024 | K25: =G25/D25 -> 0.61982249 | L25: =H25/D25 -> 0.40236686
B26: 高 俣 | D26: ='人口と世帯数(8月末）'!P26 -> 386 | E26: =SUM('[1]集計表（リンク）'!J368:J387) -> 7 | F26: =SUM('[1]集計表（リンク）'!K368:K387) -> 135 | G26: =SUM('[1]集計表（リンク）'!L368:L387) -> 244 | H26: =SUM('[1]集計表（リンク）'!M368:M387) -> 156 | I26: =E26/D26 -> 0.018134715 | J26: =F26/D26 -> 0.34974093 | K26: =G26/D26 -> 0.63212435 | L26: =H26/D26 -> 0.40414508
B27: 小 計 | D27: ='人口と世帯数(8月末）'!P27 -> 1062 | E27: =SUM(E25:E26) -> 39 | F27: =SUM(F25:F26) -> 360 | G27: =SUM(G25:G26) -> 663 | H27: =SUM(H25:H26) -> 428 | I27: =E27/D27 -> 0.036723164 | J27: =F27/D27 -> 0.33898305 | K27: =G27/D27 -> 0.62429379 | L27: =H27/D27 -> 0.40301318
A28: 須 佐 | B28: 須 佐 | D28: ='人口と世帯数(8月末）'!P28 -> 1555 | E28: =SUM('[1]集計表（リンク）'!J388:J416) -> 74 | F28: =SUM('[1]集計表（リンク）'!K388:K416) -> 615 | G28: =SUM('[1]集計表（リンク）'!L388:L416) -> 866 | H28: =SUM('[1]集計表（リンク）'!M388:M416) -> 565 | I28: =E28/D28 -> 0.047588424 | J28: =F28/D28 -> 0.39549839 | K28: =G28/D28 -> 0.55691318 | L28: =H28/D28 -> 0.36334405
B29: 弥 富 | D29: ='人口と世帯数(8月末）'!P29 -> 375 | E29: =SUM('[1]集計表（リンク）'!J417:J429) -> 13 | F29: =SUM('[1]集計表（リンク）'!K417:K429) -> 103 | G29: =SUM('[1]集計表（リンク）'!L417:L429) -> 259 | H29: =SUM('[1]集計表（リンク）'!M417:M429) -> 164 | I29: =E29/D29 -> 0.034666667 | J29: =F29/D29 -> 0.27466667 | K29: =G29/D29 -> 0.69066667 | L29: =H29/D29 -> 0.43733333
B30: 小 計 | D30: ='人口と世帯数(8月末）'!P30 -> 1930 | E30: =SUM(E28:E29) -> 87 | F30: =SUM(F28:F29) -> 718 | G30: =SUM(G28:G29) -> 1125 | H30: =SUM(H28:H29) -> 729 | I30: =E30/D30 -> 0.04507772 | J30: =F30/D30 -> 0.37202073 | K30: =G30/D30 -> 0.58290155 | L30: =H30/D30 -> 0.37772021
A31: 旭 | B31: 明 木 | D31: ='人口と世帯数(8月末）'!P31 -> 737 | E31: =SUM('[1]集計表（リンク）'!J430:J450) -> 25 | F31: =SUM('[1]集計表（リンク）'!K430:K450) -> 284 | G31: =SUM('[1]集計表（リンク）'!L430:L450) -> 428 | H31: =SUM('[1]集計表（リンク）'!M430:M450) -> 270 | I31: =E31/D31 -> 0.033921303 | J31: =F31/D31 -> 0.385346 | K31: =G31/D31 -> 0.5807327 | L31: =H31/D31 -> 0.36635007
B32: 佐 々 並 | D32: ='人口と世帯数(8月末）'!P32 -> 501 | E32: =SUM('[1]集計表（リンク）'!J451:J461) -> 25 | F32: =SUM('[1]集計表（リンク）'!K451:K461) -> 179 | G32: =SUM('[1]集計表（リンク）'!L451:L461) -> 297 | H32: =SUM('[1]集計表（リンク）'!M451:M461) -> 190 | I32: =E32/D32 -> 0.0499002 | J32: =F32/D32 -> 0.35728543 | K32: =G32/D32 -> 0.59281437 | L32: =H32/D32 -> 0.37924152
B33: 小 計 | D33: ='人口と世帯数(8月末）'!P33 -> 1238 | E33: =SUM(E31:E32) -> 50 | F33: =SUM(F31:F32) -> 463 | G33: =SUM(G31:G32) -> 725 | H33: =SUM(H31:H32) -> 460 | I33: =E33/D33 -> 0.040387722 | J33: =F33/D33 -> 0.37399031 | K33: =G33/D33 -> 0.58562197 | L33: =H33/D33 -> 0.37156704
A34: 福 栄 | B34: 福 川 | D34: ='人口と世帯数(8月末）'!P34 -> 645 | E34: =SUM('[1]集計表（リンク）'!J462:J487) -> 22 | F34: =SUM('[1]集計表（リンク）'!K462:K487) -> 221 | G34: =SUM('[1]集計表（リンク）'!L462:L487) -> 402 | H34: =SUM('[1]集計表（リンク）'!M462:M487) -> 260 | I34: =E34/D34 -> 0.034108527 | J34: =F34/D34 -> 0.34263566 | K34: =G34/D34 -> 0.62325581 | L34: =H34/D34 -> 0.40310078
B35: 紫 福 | D35: ='人口と世帯数(8月末）'!P35 -> 583 | E35: =SUM('[1]集計表（リンク）'!J488:J508) -> 24 | F35: =SUM('[1]集計表（リンク）'!K488:K508) -> 206 | G35: =SUM('[1]集計表（リンク）'!L488:L508) -> 353 | H35: =SUM('[1]集計表（リンク）'!M488:M508) -> 203 | I35: =E35/D35 -> 0.041166381 | J35: =F35/D35 -> 0.35334477 | K35: =G35/D35 -> 0.60548885 | L35: =H35/D35 -> 0.34819897
B36: 小 計 | D36: ='人口と世帯数(8月末）'!P36 -> 1228 | E36: =SUM(E34:E35) -> 46 | F36: =SUM(F34:F35) -> 427 | G36: =SUM(G34:G35) -> 755 | H36: =SUM(H34:H35) -> 463 | I36: =E36/D36 -> 0.037459283 | J36: =F36/D36 -> 0.34771987 | K36: =G36/D36 -> 0.61482085 | L36: =H36/D36 -> 0.37703583
A37: 合 計 | D37: ='人口と世帯数(8月末）'!P37 -> 39801 | E37: =E19+E21+E24+E27+E30+E33+E36 -> 2851 | F37: =F19+F21+F24+F27+F30+F33+F36 -> 18586 | G37: =G19+G21+G24+G27+G30+G33+G36 -> 18364 | H37: =H19+H21+H24+H27+H30+H33+H36 -> 11280 | I37: =E37/D37 -> 0.071631366 | J37: =F37/D37 -> 0.46697319 | K37: =G37/D37 -> 0.46139544 | L37: =H37/D37 -> 0.28340996
A39: ※ 割合は、小数点第２位を四捨五入しているため、合計が100％にならない場合があります。
A40: ※ 「住民基本台帳の一部を改正する法律」が平成２４年７月９日に施行されたことに伴い、外国人数が含まれるようになりました。

Sheet 男女別人口（８月末）
A1: 地域別（年齢）３区分別人口
Q2: ='人口と世帯数(8月末）'!R2 -> 令和８年８月末日現在
A3: 地 域 | D3: 人口 | E3: 年齢３区分別人口
E4: 男 | I4: 女 | N4: 全体
E5: 0～14歳 | F5: 15～64歳 | G5: 65歳 以上 | I5: 0～14歳 | J5: 15～64歳 | L5: 65歳 以上 | N5: 0～14歳 | O5: 15～64歳 | P5: 65歳 以上
H6: 内75歳 以上 | K6: 20～39歳 | M6: 内75歳 以上 | Q6: 内75歳 以上
A7: 萩 | B7: 川 内 | D7: ='人口と世帯数(8月末）'!P6 -> 13347 | E7: =SUM('[1]集計表（リンク）'!O4:O110) -> 674 | F7: =SUM('[1]集計表（リンク）'!P4:P110) -> 3341 | G7: =SUM('[1]集計表（リンク）'!Q4:Q110) -> 2062 | H7: =SUM('[1]集計表（リンク）'!R4:R110) -> 1138 | I7: =SUM('[1]集計表（リンク）'!S4:S110) -> 638 | J7: =SUM('[1]集計表（リンク）'!T4:T110) -> 3671 | K7: =SUM('[1]集計表（リンク）'!U4:U110) -> 1116 | L7: =SUM('[1]集計表（リンク）'!V4:V110) -> 2961 | M7: =SUM('[1]集計表（リンク）'!W4:W110) -> 1926 | N7: =SUM('[1]集計表（リンク）'!J4:J110) -> 1312 | O7: =SUM('[1]集計表（リンク）'!K4:K110) -> 7012 | P7: =SUM('[1]集計表（リンク）'!L4:L110) -> 5023 | Q7: =SUM('[1]集計表（リンク）'!M4:M110) -> 3064
B8: 椿 東 | D8: 1005 | E8: =SUM('[1]集計表（リンク）'!O111:O167) -> 324 | F8: =SUM('[1]集計表（リンク）'!P111:P167) -> 2332 | G8: =SUM('[1]集計表（リンク）'!Q111:Q167) -> 1631 | H8: =SUM('[1]集計表（リンク）'!R111:R167) -> 887 | I8: =SUM('[1]集計表（リンク）'!S111:S167) -> 348 | J8: =SUM('[1]集計表（リンク）'!T111:T167) -> 2141 | K8: =SUM('[1]集計表（リンク）'!U111:U167) -> 499 | L8: =SUM('[1]集計表（リンク）'!V111:V167) -> 2381 | M8: =SUM('[1]集計表（リンク）'!W111:W167) -> 1495 | N8: =SUM('[1]集計表（リンク）'!J111:J167) -> 672 | O8: =SUM('[1]集計表（リンク）'!K111:K167) -> 4473 | P8: =SUM('[1]集計表（リンク）'!L111:L167) -> 4012 | Q8: =SUM('[1]集計表（リンク）'!M111:M167) -> 2382
C9: 再掲 小 畑 | D9: 624 | E9: =SUM('[1]集計表（リンク）'!O144:O154) -> 52 | F9: =SUM('[1]集計表（リンク）'!P144:P154) -> 412 | G9: =SUM('[1]集計表（リンク）'!Q144:Q154) -> 315 | H9: =SUM('[1]集計表（リンク）'!R144:R154) -> 168 | I9: =SUM('[1]集計表（リンク）'!S144:S154) -> 47 | J9: =SUM('[1]集計表（リンク）'!T144:T154) -> 327 | K9: =SUM('[1]集計表（リンク）'!U144:U154) -> 88 | L9: =SUM('[1]集計表（リンク）'!V144:V154) -> 475 | M9: =SUM('[1]集計表（リンク）'!W144:W154) -> 279 | N9: =SUM('[1]集計表（リンク）'!J144:J154) -> 99 | O9: =SUM('[1]集計表（リンク）'!K144:K154) -> 739 | P9: =SUM('[1]集計表（リンク）'!L144:L154) -> 790 | Q9: =SUM('[1]集計表（リンク）'!M144:M154) -> 447
C10: 再掲 越ヶ浜 | D10: ='人口と世帯数(8月末）'!P9 -> 1017 | E10: =SUM('[1]集計表（リンク）'!O155:O167) -> 15 | F10: =SUM('[1]集計表（リンク）'!P155:P167) -> 220 | G10: =SUM('[1]集計表（リンク）'!Q155:Q167) -> 248 | H10: =SUM('[1]集計表（リンク）'!R155:R167) -> 136 | I10: =SUM('[1]集計表（リンク）'!S155:S167) -> 6 | J10: =SUM('[1]集計表（リンク）'!T155:T167) -> 187 | K10: =SUM('[1]集計表（リンク）'!U155:U167) -> 37 | L10: =SUM('[1]集計表（リンク）'!V155:V167) -> 341 | M10: =SUM('[1]集計表（リンク）'!W155:W167) -> 241 | N10: =SUM('[1]集計表（リンク）'!J155:J167) -> 21 | O10: =SUM('[1]集計表（リンク）'!K155:K167) -> 407 | P10: =SUM('[1]集計表（リンク）'!L155:L167) -> 589 | Q10: =SUM('[1]集計表（リンク）'!M155:M167) -> 377
B11: 椿 | D11: ='人口と世帯数(8月末）'!P10 -> 3539 | E11: =SUM('[1]集計表（リンク）'!O168:O181) -> 172 | F11: =SUM('[1]集計表（リンク）'!P168:P181) -> 879 | G11: =SUM('[1]集計表（リンク）'!Q168:Q181) -> 555 | H11: =SUM('[1]集計表（リンク）'!R168:R181) -> 288 | I11: =SUM('[1]集計表（リンク）'!S168:S181) -> 166 | J11: =SUM('[1]集計表（リンク）'!T168:T181) -> 934 | K11: =SUM('[1]集計表（リンク）'!U168:U181) -> 258 | L11: =SUM('[1]集計表（リンク）'!V168:V181) -> 833 | M11: =SUM('[1]集計表（リンク）'!W168:W181) -> 513 | N11: =SUM('[1]集計表（リンク）'!J168:J181) -> 338 | O11: =SUM('[1]集計表（リンク）'!K168:K181) -> 1813 | P11: =SUM('[1]集計表（リンク）'!L168:L181) -> 1388 | Q11: =SUM('[1]集計表（リンク）'!M168:M181) -> 801
B12: 山 田 | D12: 59 | E12: =SUM('[1]集計表（リンク）'!O182:O201) -> 52 | F12: =SUM('[1]集計表（リンク）'!P182:P201) -> 476 | G12: =SUM('[1]集計表（リンク）'!Q182:Q201) -> 438 | H12: =SUM('[1]集計表（リンク）'!R182:R201) -> 252 | I12: =SUM('[1]集計表（リンク）'!S182:S201) -> 55 | J12: =SUM('[1]集計表（リンク）'!T182:T201) -> 462 | K12: =SUM('[1]集計表（リンク）'!U182:U201) -> 100 | L12: =SUM('[1]集計表（リンク）'!V182:V201) -> 650 | M12: =SUM('[1]集計表（リンク）'!W182:W201) -> 427 | N12: =SUM('[1]集計表（リンク）'!J182:J201) -> 107 | O12: =SUM('[1]集計表（リンク）'!K182:K201) -> 938 | P12: =SUM('[1]集計表（リンク）'!L182:L201) -> 1088 | Q12: =SUM('[1]集計表（リンク）'!M182:M201) -> 679
C13: 再掲 木 間 | D13: ='人口と世帯数(8月末）'!P12 -> 85 | E13: =SUM('[1]集計表（リンク）'!O182:O184) -> 0 | F13: =SUM('[1]集計表（リンク）'!P182:P184) -> 13 | G13: =SUM('[1]集計表（リンク）'!Q182:Q184) -> 26 | H13: =SUM('[1]集計表（リンク）'!R182:R184) -> 20 | I13: =SUM('[1]集計表（リンク）'!S182:S184) -> 0 | J13: =SUM('[1]集計表（リンク）'!T182:T184) -> 10 | K13: =SUM('[1]集計表（リンク）'!U182:U184) -> 2 | L13: =SUM('[1]集計表（リンク）'!V182:V184) -> 36 | M13: =SUM('[1]集計表（リンク）'!W182:W184) -> 24 | N13: =SUM('[1]集計表（リンク）'!J182:J184) -> 0 | O13: =SUM('[1]集計表（リンク）'!K182:K184) -> 23 | P13: =SUM('[1]集計表（リンク）'!L182:L184) -> 62 | Q13: =SUM('[1]集計表（リンク）'!M182:M184) -> 44
B14: 三 見 | D14: ='人口と世帯数(8月末）'!P13 -> 876 | E14: =SUM('[1]集計表（リンク）'!O202:O218) -> 9 | F14: =SUM('[1]集計表（リンク）'!P202:P218) -> 178 | G14: =SUM('[1]集計表（リンク）'!Q202:Q218) -> 214 | H14: =SUM('[1]集計表（リンク）'!R202:R218) -> 130 | I14: =SUM('[1]集計表（リンク）'!S202:S218) -> 10 | J14: =SUM('[1]集計表（リンク）'!T202:T218) -> 162 | K14: =SUM('[1]集計表（リンク）'!U202:U218) -> 28 | L14: =SUM('[1]集計表（リンク）'!V202:V218) -> 303 | M14: =SUM('[1]集計表（リンク）'!W202:W218) -> 207 | N14: =SUM('[1]集計表（リンク）'!J202:J218) -> 19 | O14: =SUM('[1]集計表（リンク）'!K202:K218) -> 340 | P14: =SUM('[1]集計表（リンク）'!L202:L218) -> 517 | Q14: =SUM('[1]集計表（リンク）'!M202:M218) -> 337
B15: 大 井 | D15: ='人口と世帯数(8月末）'!P14 -> 1428 | E15: =SUM('[1]集計表（リンク）'!O219:O239) -> 13 | F15: =SUM('[1]集計表（リンク）'!P219:P239) -> 258 | G15: =SUM('[1]集計表（リンク）'!Q219:Q239) -> 383 | H15: =SUM('[1]集計表（リンク）'!R219:R239) -> 223 | I15: =SUM('[1]集計表（リンク）'!S219:S239) -> 17 | J15: =SUM('[1]集計表（リンク）'!T219:T239) -> 238 | K15: =SUM('[1]集計表（リンク）'!U219:U239) -> 44 | L15: =SUM('[1]集計表（リンク）'!V219:V239) -> 519 | M15: =SUM('[1]集計表（リンク）'!W219:W239) -> 360 | N15: =SUM('[1]集計表（リンク）'!J219:J239) -> 30 | O15: =SUM('[1]集計表（リンク）'!K219:K239) -> 496 | P15: =SUM('[1]集計表（リンク）'!L219:L239) -> 902 | Q15: =SUM('[1]集計表（リンク）'!M219:M239) -> 583
B16: 大 島 | D16: ='人口と世帯数(8月末）'!P15 -> 503 | E16: =SUM('[1]集計表（リンク）'!O240:O249) -> 13 | F16: =SUM('[1]集計表（リンク）'!P240:P249) -> 126 | G16: =SUM('[1]集計表（リンク）'!Q240:Q249) -> 114 | H16: =SUM('[1]集計表（リンク）'!R240:R249) -> 49 | I16: =SUM('[1]集計表（リンク）'!S240:S249) -> 11 | J16: =SUM('[1]集計表（リンク）'!T240:T249) -> 104 | K16: =SUM('[1]集計表（リンク）'!U240:U249) -> 30 | L16: =SUM('[1]集計表（リンク）'!V240:V249) -> 135 | M16: =SUM('[1]集計表（リンク）'!W240:W249) -> 76 | N16: =SUM('[1]集計表（リンク）'!J240:J249) -> 24 | O16: =SUM('[1]集計表（リンク）'!K240:K249) -> 230 | P16: =SUM('[1]集計表（リンク）'!L240:L249) -> 249 | Q16: =SUM('[1]集計表（リンク）'!M240:M249) -> 125
B17: 相 島 | E17: =SUM('[1]集計表（リンク）'!O250:O252) -> 0 | F17: =SUM('[1]集計表（リンク）'!P250:P252) -> 8 | G17: =SUM('[1]集計表（リンク）'!Q250:Q252) -> 34 | H17: =SUM('[1]集計表（リンク）'!R250:R252) -> 20 | I17: =SUM('[1]集計表（リンク）'!S250:S252) -> 0 | J17: =SUM('[1]集計表（リンク）'!T250:T252) -> 10 | K17: =SUM('[1]集計表（リンク）'!U250:U252) -> 0 | L17: =SUM('[1]集計表（リンク）'!V250:V252) -> 47 | M17: =SUM('[1]集計表（リンク）'!W250:W252) -> 31 | N17: =SUM('[1]集計表（リンク）'!J250:J252) -> 0 | O17: =SUM('[1]集計表（リンク）'!K250:K252) -> 18 | P17: =SUM('[1]集計表（リンク）'!L250:L252) -> 81 | Q17: =SUM('[1]集計表（リンク）'!M250:M252) -> 51
B18: 櫃 島 | D18: ='人口と世帯数(8月末）'!P17 -> 2 | E18: =SUM('[1]集計表（リンク）'!O253) -> 0 | F18: =SUM('[1]集計表（リンク）'!P253) -> 0 | G18: =SUM('[1]集計表（リンク）'!Q253) -> 1 | H18: =SUM('[1]集計表（リンク）'!R253) -> 1 | I18: =SUM('[1]集計表（リンク）'!S253) -> 0 | J18: =SUM('[1]集計表（リンク）'!T253) -> 0 | K18: =SUM('[1]集計表（リンク）'!U253) -> 0 | L18: =SUM('[1]集計表（リンク）'!V253) -> 1 | M18: =SUM('[1]集計表（リンク）'!W253) -> 1 | N18: =SUM('[1]集計表（リンク）'!J253) -> 0 | O18: =SUM('[1]集計表（リンク）'!K253) -> 0 | P18: =SUM('[1]集計表（リンク）'!L253) -> 2 | Q18: =SUM('[1]集計表（リンク）'!M253) -> 2
B19: 見 島 | D19: ='人口と世帯数(8月末）'!P18 -> 555 | E19: =SUM('[1]集計表（リンク）'!O254:O265) -> 6 | F19: =SUM('[1]集計表（リンク）'!P254:P265) -> 170 | G19: =SUM('[1]集計表（リンク）'!Q254:Q265) -> 138 | H19: =SUM('[1]集計表（リンク）'!R254:R265) -> 83 | I19: =SUM('[1]集計表（リンク）'!S254:S265) -> 7 | J19: =SUM('[1]集計表（リンク）'!T254:T265) -> 46 | K19: =SUM('[1]集計表（リンク）'!U254:U265) -> 14 | L19: =SUM('[1]集計表（リンク）'!V254:V265) -> 188 | M19: =SUM('[1]集計表（リンク）'!W254:W265) -> 118 | N19: =SUM('[1]集計表（リンク）'!J254:J265) -> 13 | O19: =SUM('[1]集計表（リンク）'!K254:K265) -> 216 | P19: =SUM('[1]集計表（リンク）'!L254:L265) -> 326 | Q19: =SUM('[1]集計表（リンク）'!M254:M265) -> 201
B20: 小 計 | D20: ='人口と世帯数(8月末）'!P19 -> 31639 | E20: =E7+E8+E11+E12+E14+E15+E16+E17+E18+E19 -> 1263 | F20: =F7+F8+F11+F12+F14+F15+F16+F17+F18+F19 -> 7768 | G20: =G7+G8+G11+G12+G14+G15+G16+G17+G18+G19 -> 5570 | H20: =H7+H8+H11+H12+H14+H15+H16+H17+H18+H19 -> 3071 | I20: =I7+I8+I11+I12+I14+I15+I16+I17+I18+I19 -> 1252 | J20: =J7+J8+J11+J12+J14+J15+J16+J17+J18+J19 -> 7768 | K20: =K7+K8+K11+K12+K14+K15+K16+K17+K18+K19 -> 2089 | L20: =L7+L8+L11+L12+L14+L15+L16+L17+L18+L19 -> 8018 | ... Q20: =Q7+Q8+Q11+Q12+Q14+Q15+Q16+Q17+Q18+Q19 -> 8225
A21: 川上 | B21: 川 上 | D21: ='人口と世帯数(8月末）'!P20 -> 677 | E21: =SUM('[1]集計表（リンク）'!O266:O280) -> 14 | F21: =SUM('[1]集計表（リンク）'!P266:P280) -> 147 | G21: =SUM('[1]集計表（リンク）'!Q266:Q280) -> 172 | H21: =SUM('[1]集計表（リンク）'!R266:R280) -> 103 | I21: =SUM('[1]集計表（リンク）'!S266:S280) -> 15 | J21: =SUM('[1]集計表（リンク）'!T266:T280) -> 116 | K21: =SUM('[1]集計表（リンク）'!U266:U280) -> 27 | L21: =SUM('[1]集計表（リンク）'!V266:V280) -> 213 | M21: =SUM('[1]集計表（リンク）'!W266:W280) -> 153 | N21: =SUM('[1]集計表（リンク）'!J266:J280) -> 29 | O21: =SUM('[1]集計表（リンク）'!K266:K280) -> 263 | P21: =SUM('[1]集計表（リンク）'!L266:L280) -> 385 | Q21: =SUM('[1]集計表（リンク）'!M266:M280) -> 256
B22: 小 計 | D22: ='人口と世帯数(8月末）'!P21 -> 677 | E22: =E21 -> 14 | F22: =F21 -> 147 | G22: =G21 -> 172 | H22: =H21 -> 103 | I22: =I21 -> 15 | J22: =J21 -> 116 | K22: =K21 -> 27 | L22: =L21 -> 213 | ... Q22: =Q21 -> 256
A23: 田万川 | B23: 小 川 | D23: ='人口と世帯数(8月末）'!P22 -> 679 | E23: =SUM('[1]集計表（リンク）'!O281:O305) -> 6 | F23: =SUM('[1]集計表（リンク）'!P281:P305) -> 139 | G23: =SUM('[1]集計表（リンク）'!Q281:Q305) -> 173 | H23: =SUM('[1]集計表（リンク）'!R281:R305) -> 97 | I23: =SUM('[1]集計表（リンク）'!S281:S305) -> 11 | J23: =SUM('[1]集計表（リンク）'!T281:T305) -> 141 | K23: =SUM('[1]集計表（リンク）'!U281:U305) -> 40 | L23: =SUM('[1]集計表（リンク）'!V281:V305) -> 209 | M23: =SUM('[1]集計表（リンク）'!W281:W305) -> 139 | N23: =SUM('[1]集計表（リンク）'!J281:J305) -> 17 | O23: =SUM('[1]集計表（リンク）'!K281:K305) -> 280 | P23: =SUM('[1]集計表（リンク）'!L281:L305) -> 382 | Q23: =SUM('[1]集計表（リンク）'!M281:M305) -> 236
B24: 江 崎 | D24: ='人口と世帯数(8月末）'!P23 -> 1348 | E24: =SUM('[1]集計表（リンク）'!O306:O334) -> 35 | F24: =SUM('[1]集計表（リンク）'!P306:P334) -> 272 | G24: =SUM('[1]集計表（リンク）'!Q306:Q334) -> 326 | H24: =SUM('[1]集計表（リンク）'!R306:R334) -> 198 | I24: =SUM('[1]集計表（リンク）'!S306:S334) -> 33 | J24: =SUM('[1]集計表（リンク）'!T306:T334) -> 267 | K24: =SUM('[1]集計表（リンク）'!U306:U334) -> 56 | L24: =SUM('[1]集計表（リンク）'!V306:V334) -> 415 | M24: =SUM('[1]集計表（リンク）'!W306:W334) -> 285 | N24: =SUM('[1]集計表（リンク）'!J306:J334) -> 68 | O24: =SUM('[1]集計表（リンク）'!K306:K334) -> 539 | P24: =SUM('[1]集計表（リンク）'!L306:L334) -> 741 | Q24: =SUM('[1]集計表（リンク）'!M306:M334) -> 483
B25: 小 計 | D25: ='人口と世帯数(8月末）'!P24 -> 2027 | E25: =SUM(E23:E24) -> 41 | F25: =SUM(F23:F24) -> 411 | G25: =SUM(G23:G24) -> 499 | H25: =SUM(H23:H24) -> 295 | I25: =SUM(I23:I24) -> 44 | J25: =SUM(J23:J24) -> 408 | K25: =SUM(K23:K24) -> 96 | L25: =SUM(L23:L24) -> 624 | ... Q25: =SUM(Q23:Q24) -> 719
A26: むつみ | B26: 吉 部 | D26: ='人口と世帯数(8月末）'!P25 -> 676 | E26: =SUM('[1]集計表（リンク）'!O335:O367) -> 18 | F26: =SUM('[1]集計表（リンク）'!P335:P367) -> 117 | G26: =SUM('[1]集計表（リンク）'!Q335:Q367) -> 184 | H26: =SUM('[1]集計表（リンク）'!R335:R367) -> 106 | I26: =SUM('[1]集計表（リンク）'!S335:S367) -> 14 | J26: =SUM('[1]集計表（リンク）'!T335:T367) -> 108 | K26: =SUM('[1]集計表（リンク）'!U335:U367) -> 21 | L26: =SUM('[1]集計表（リンク）'!V335:V367) -> 235 | M26: =SUM('[1]集計表（リンク）'!W335:W367) -> 166 | N26: =SUM('[1]集計表（リンク）'!J335:J367) -> 32 | O26: =SUM('[1]集計表（リンク）'!K335:K367) -> 225 | P26: =SUM('[1]集計表（リンク）'!L335:L367) -> 419 | Q26: =SUM('[1]集計表（リンク）'!M335:M367) -> 272
B27: 高 俣 | D27: ='人口と世帯数(8月末）'!P26 -> 386 | E27: =SUM('[1]集計表（リンク）'!O368:O387) -> 4 | F27: =SUM('[1]集計表（リンク）'!P368:P387) -> 81 | G27: =SUM('[1]集計表（リンク）'!Q368:Q387) -> 110 | H27: =SUM('[1]集計表（リンク）'!R368:R387) -> 64 | I27: =SUM('[1]集計表（リンク）'!S368:S387) -> 3 | J27: =SUM('[1]集計表（リンク）'!T368:T387) -> 54 | K27: =SUM('[1]集計表（リンク）'!U368:U387) -> 9 | L27: =SUM('[1]集計表（リンク）'!V368:V387) -> 134 | M27: =SUM('[1]集計表（リンク）'!W368:W387) -> 92 | N27: =SUM('[1]集計表（リンク）'!J368:J387) -> 7 | O27: =SUM('[1]集計表（リンク）'!K368:K387) -> 135 | P27: =SUM('[1]集計表（リンク）'!L368:L387) -> 244 | Q27: =SUM('[1]集計表（リンク）'!M368:M387) -> 156
B28: 小 計 | D28: ='人口と世帯数(8月末）'!P27 -> 1062 | E28: =SUM(E26:E27) -> 22 | F28: =SUM(F26:F27) -> 198 | G28: =SUM(G26:G27) -> 294 | H28: =SUM(H26:H27) -> 170 | I28: =SUM(I26:I27) -> 17 | J28: =SUM(J26:J27) -> 162 | K28: =SUM(K26:K27) -> 30 | L28: =SUM(L26:L27) -> 369 | ... Q28: =SUM(Q26:Q27) -> 428
A29: 須 佐 | B29: 須 佐 | D29: ='人口と世帯数(8月末）'!P28 -> 1555 | E29: =SUM('[1]集計表（リンク）'!O388:O416) -> 36 | F29: =SUM('[1]集計表（リンク）'!P388:P416) -> 322 | G29: =SUM('[1]集計表（リンク）'!Q388:Q416) -> 375 | H29: =SUM('[1]集計表（リンク）'!R388:R416) -> 224 | I29: =SUM('[1]集計表（リンク）'!S388:S416) -> 38 | J29: =SUM('[1]集計表（リンク）'!T388:T416) -> 293 | K29: =SUM('[1]集計表（リンク）'!U388:U416) -> 49 | L29: =SUM('[1]集計表（リンク）'!V388:V416) -> 491 | M29: =SUM('[1]集計表（リンク）'!W388:W416) -> 341 | N29: =SUM('[1]集計表（リンク）'!J388:J416) -> 74 | O29: =SUM('[1]集計表（リンク）'!K388:K416) -> 615 | P29: =SUM('[1]集計表（リンク）'!L388:L416) -> 866 | Q29: =SUM('[1]集計表（リンク）'!M388:M416) -> 565
B30: 弥 富 | D30: ='人口と世帯数(8月末）'!P29 -> 375 | E30: =SUM('[1]集計表（リンク）'!O417:O429) -> 6 | F30: =SUM('[1]集計表（リンク）'!P417:P429) -> 51 | G30: =SUM('[1]集計表（リンク）'!Q417:Q429) -> 118 | H30: =SUM('[1]集計表（リンク）'!R417:R429) -> 71 | I30: =SUM('[1]集計表（リンク）'!S417:S429) -> 7 | J30: =SUM('[1]集計表（リンク）'!T417:T429) -> 52 | K30: =SUM('[1]集計表（リンク）'!U417:U429) -> 11 | L30: =SUM('[1]集計表（リンク）'!V417:V429) -> 141 | M30: =SUM('[1]集計表（リンク）'!W417:W429) -> 93 | N30: =SUM('[1]集計表（リンク）'!J417:J429) -> 13 | O30: =SUM('[1]集計表（リンク）'!K417:K429) -> 103 | P30: =SUM('[1]集計表（リンク）'!L417:L429) -> 259 | Q30: =SUM('[1]集計表（リンク）'!M417:M429) -> 164
B31: 小 計 | D31: ='人口と世帯数(8月末）'!P30 -> 1930 | E31: =SUM(E29:E30) -> 42 | F31: =SUM(F29:F30) -> 373 | G31: =SUM(G29:G30) -> 493 | H31: =SUM(H29:H30) -> 295 | I31: =SUM(I29:I30) -> 45 | J31: =SUM(J29:J30) -> 345 | K31: =SUM(K29:K30) -> 60 | L31: =SUM(L29:L30) -> 632 | ... Q31: =SUM(Q29:Q30) -> 729
A32: 旭 | B32: 明 木 | D32: ='人口と世帯数(8月末）'!P31 -> 737 | E32: =SUM('[1]集計表（リンク）'!O430:O450) -> 14 | F32: =SUM('[1]集計表（リンク）'!P430:P450) -> 156 | G32: =SUM('[1]集計表（リンク）'!Q430:Q450) -> 183 | H32: =SUM('[1]集計表（リンク）'!R430:R450) -> 100 | I32: =SUM('[1]集計表（リンク）'!S430:S450) -> 11 | J32: =SUM('[1]集計表（リンク）'!T430:T450) -> 128 | K32: =SUM('[1]集計表（リンク）'!U430:U450) -> 20 | L32: =SUM('[1]集計表（リンク）'!V430:V450) -> 245 | M32: =SUM('[1]集計表（リンク）'!W430:W450) -> 170 | N32: =SUM('[1]集計表（リンク）'!J430:J450) -> 25 | O32: =SUM('[1]集計表（リンク）'!K430:K450) -> 284 | P32: =SUM('[1]集計表（リンク）'!L430:L450) -> 428 | Q32: =SUM('[1]集計表（リンク）'!M430:M450) -> 270
B33: 佐 々 並 | D33: ='人口と世帯数(8月末）'!P32 -> 501 | E33: =SUM('[1]集計表（リンク）'!O451:O461) -> 14 | F33: =SUM('[1]集計表（リンク）'!P451:P461) -> 94 | G33: =SUM('[1]集計表（リンク）'!Q451:Q461) -> 136 | H33: =SUM('[1]集計表（リンク）'!R451:R461) -> 81 | I33: =SUM('[1]集計表（リンク）'!S451:S461) -> 11 | J33: =SUM('[1]集計表（リンク）'!T451:T461) -> 85 | K33: =SUM('[1]集計表（リンク）'!U451:U461) -> 11 | L33: =SUM('[1]集計表（リンク）'!V451:V461) -> 161 | M33: =SUM('[1]集計表（リンク）'!W451:W461) -> 109 | N33: =SUM('[1]集計表（リンク）'!J451:J461) -> 25 | O33: =SUM('[1]集計表（リンク）'!K451:K461) -> 179 | P33: =SUM('[1]集計表（リンク）'!L451:L461) -> 297 | Q33: =SUM('[1]集計表（リンク）'!M451:M461) -> 190
B34: 小 計 | D34: ='人口と世帯数(8月末）'!P33 -> 1238 | E34: =SUM(E32:E33) -> 28 | F34: =SUM(F32:F33) -> 250 | G34: =SUM(G32:G33) -> 319 | H34: =SUM(H32:H33) -> 181 | I34: =SUM(I32:I33) -> 22 | J34: =SUM(J32:J33) -> 213 | K34: =SUM(K32:K33) -> 31 | L34: =SUM(L32:L33) -> 406 | ... Q34: =SUM(Q32:Q33) -> 460
A35: 福 栄 | B35: 福 川 | D35: ='人口と世帯数(8月末）'!P34 -> 645 | E35: =SUM('[1]集計表（リンク）'!O462:O487) -> 12 | F35: =SUM('[1]集計表（リンク）'!P462:P487) -> 120 | G35: =SUM('[1]集計表（リンク）'!Q462:Q487) -> 168 | H35: =SUM('[1]集計表（リンク）'!R462:R487) -> 101 | I35: =SUM('[1]集計表（リンク）'!S462:S487) -> 10 | J35: =SUM('[1]集計表（リンク）'!T462:T487) -> 101 | K35: =SUM('[1]集計表（リンク）'!U462:U487) -> 13 | L35: =SUM('[1]集計表（リンク）'!V462:V487) -> 234 | M35: =SUM('[1]集計表（リンク）'!W462:W487) -> 159 | N35: =SUM('[1]集計表（リンク）'!J462:J487) -> 22 | O35: =SUM('[1]集計表（リンク）'!K462:K487) -> 221 | P35: =SUM('[1]集計表（リンク）'!L462:L487) -> 402 | Q35: =SUM('[1]集計表（リンク）'!M462:M487) -> 260
B36: 紫 福 | D36: ='人口と世帯数(8月末）'!P35 -> 583 | E36: =SUM('[1]集計表（リンク）'!O488:O508) -> 12 | F36: =SUM('[1]集計表（リンク）'!P488:P508) -> 105 | G36: =SUM('[1]集計表（リンク）'!Q488:Q508) -> 158 | H36: =SUM('[1]集計表（リンク）'!R488:R508) -> 82 | I36: =SUM('[1]集計表（リンク）'!S488:S508) -> 12 | J36: =SUM('[1]集計表（リンク）'!T488:T508) -> 101 | K36: =SUM('[1]集計表（リンク）'!U488:U508) -> 19 | L36: =SUM('[1]集計表（リンク）'!V488:V508) -> 195 | M36: =SUM('[1]集計表（リンク）'!W488:W508) -> 121 | N36: =SUM('[1]集計表（リンク）'!J488:J508) -> 24 | O36: =SUM('[1]集計表（リンク）'!K488:K508) -> 206 | P36: =SUM('[1]集計表（リンク）'!L488:L508) -> 353 | Q36: =SUM('[1]集計表（リンク）'!M488:M508) -> 203
B37: 小 計 | D37: ='人口と世帯数(8月末）'!P36 -> 1228 | E37: =SUM(E35:E36) -> 24 | F37: =SUM(F35:F36) -> 225 | G37: =SUM(G35:G36) -> 326 | H37: =SUM(H35:H36) -> 183 | I37: =SUM(I35:I36) -> 22 | J37: =SUM(J35:J36) -> 202 | K37: =SUM(K35:K36) -> 32 | L37: =SUM(L35:L36) -> 429 | ... Q37: =SUM(Q35:Q36) -> 463
A38: 合 計 | D38: ='人口と世帯数(8月末）'!P37 -> 39801 | E38: =E20+E22+E25+E28+E31+E34+E37 -> 1434 | F38: =F20+F22+F25+F28+F31+F34+F37 -> 9372 | G38: =G20+G22+G25+G28+G31+G34+G37 -> 7673 | H38: =H20+H22+H25+H28+H31+H34+H37 -> 4298 | I38: =I20+I22+I25+I28+I31+I34+I37 -> 1417 | J38: =J20+J22+J25+J28+J31+J34+J37 -> 9214 | K38: =K20+K22+K25+K28+K31+K34+K37 -> 2365 | L38: =L20+L22+L25+L28+L31+L34+L37 -> 10691 | ... Q38: =Q20+Q22+Q25+Q28+Q31+Q34+Q37 -> 11280
A39: ※ 「住民基本台帳の一部を改正する法律」が平成２４年７月９日に施行されたことに伴い、外国人数が含まれるようになりました。
